    BEGIN:VCALENDAR
VERSION:2.0
PRODID:-//HERZOG Kultur- &amp; Stadtmagazin - ECPv4.9.2//NONSGML v1.0//EN
CALSCALE:GREGORIAN
METHOD:PUBLISH
X-WR-CALNAME:HERZOG Kultur- &amp; Stadtmagazin
X-ORIGINAL-URL:https://www.herzog-magazin.de
X-WR-CALDESC:Veranstaltungen im HERZOG Kultur- &amp; Stadtmagazin
BEGIN:VEVENT
DTSTART;TZID=Europe/Berlin:20250529T110000
DTEND;TZID=Europe/Berlin:20250529T170000
DTSTAMP:20260424T140338
CREATED:20250409T110246Z
LAST-MODIFIED:20250409T110326Z
UID:146009-1748516400-1748538000@www.herzog-magazin.de
SUMMARY:Ökum. Gottesdienst im Brückenkopf-Park
DESCRIPTION:An diesem christlichen Feiertag\, der den Himmel in seinem Namen trägt\, lädt die Evangelische Kirchengemeinde Jülich zu einem ökumenischen Gottesdienst unter freiem Himmel in den Brückenkopf- Park Jülich ein. Der Zutritt zum Park ist für die Gottesdienstbesucher kostenfrei. Der Eingang zum Gottesdienst befindet sich ca. 100m vor dem Haupteingang am Lindenrondell/Jufa (‚alter Eingang‘ am Bistro/Glashaus). Als kleines Dankeschön für dieses schöne Entgegenkommen des Brückenkopf-Parks Jülich wird die Gottesdienst-Kollekte den Gastgebern gewidmet. Ganz herzlich sind Groß und Klein am Donnerstag\, 29. Mai\, um 11 Uhr ein\, eingeladen an diesem besonderen Gottesdienst teilzunehmen. Musikalisch wird er gestaltet von den Posaunenchören der Evangelischen Kirchengemeinden Jülich und Linnich. \n
URL:https://www.herzog-magazin.de/event/oekum-gottesdienst-im-bru%cc%88ckenkopf-park/
LOCATION:Brückenkopf-Park Jülich\, Rurauenstraße 11\, Jülich\, NRW\, 52428\, Deutschland
GEO:50.923;6.34195
X-APPLE-STRUCTURED-LOCATION;VALUE=URI;X-ADDRESS=Brückenkopf-Park Jülich Rurauenstraße 11 Jülich NRW 52428 Deutschland;X-APPLE-RADIUS=500;X-TITLE=Rurauenstraße 11:geo:6.34195,50.923
CATEGORIES:für Familien,Religion
ATTACH;FMTTYPE=image/jpeg:https://www.herzog-magazin.de/wp-content/uploads/2021/05/Christi-Himmelfahrt-ökumenischer-Gottesdienst-Brückenkopf-Park.jpg
ORGANIZER;CN="Evangelische%20Kirchengemeinde%20J%C3%BClich":MAILTO:juelich@ekir.de
END:VEVENT
END:VCALENDAR