    BEGIN:VCALENDAR
VERSION:2.0
PRODID:-//HERZOG Kultur- &amp; Stadtmagazin - ECPv4.9.2//NONSGML v1.0//EN
CALSCALE:GREGORIAN
METHOD:PUBLISH
X-WR-CALNAME:HERZOG Kultur- &amp; Stadtmagazin
X-ORIGINAL-URL:https://www.herzog-magazin.de
X-WR-CALDESC:Veranstaltungen im HERZOG Kultur- &amp; Stadtmagazin
BEGIN:VEVENT
DTSTART;TZID=Europe/Berlin:20230518T110000
DTEND;TZID=Europe/Berlin:20230518T110000
DTSTAMP:20260423T014348
CREATED:20230503T104256Z
LAST-MODIFIED:20230503T104318Z
UID:105669-1684407600-1684407600@www.herzog-magazin.de
SUMMARY:Ökumenischer Gottesdienst im Park
DESCRIPTION:Zu einem ökumenischen Gottesdienst laden die evangelische Kirchengemeinde Jülich und die katholische Pfarrei Heilig Geist an Christi Himmelfahrt\, dem christlichen Feiertag\, der den Himmel in seinem Namen trägt\, ein. Einer schönen Tradition folgend findet dieser besondere Gottesdienst am Donnerstag\, 18. Mai\, um 11 Uhr für Groß und Klein unter freiem Himmel im Brückenkopf-Park Jülich statt. Als kleines Dankeschön für dieses Entgegenkommen der Parkleitung wird die Gottesdienst-Kollekte auch diesmal wieder den Gastgebern gewidmet. \nFür ausreichend Sitzgelegenheiten ist gesorgt. Gerne darf aber auch auf einer mitgebrachten Picknickdecke Platz genommen werden. Der Zutritt zum Park ist für Gottesdienstbesuchende kostenfrei. Der Eingang befindet sich etwa 100 Meter vor dem Hauptein- gang am Lindenrondell / Jufa (‚alter Eingang‘ am Bistro / Glashaus). \n
URL:https://www.herzog-magazin.de/event/oekumenischer-gottesdienst-im-brueckenkopf-park/
LOCATION:Brückenkopf-Park Jülich\, Rurauenstraße 11\, Jülich\, NRW\, 52428\, Deutschland
GEO:50.923;6.34195
X-APPLE-STRUCTURED-LOCATION;VALUE=URI;X-ADDRESS=Brückenkopf-Park Jülich Rurauenstraße 11 Jülich NRW 52428 Deutschland;X-APPLE-RADIUS=500;X-TITLE=Rurauenstraße 11:geo:6.34195,50.923
CATEGORIES:Religion
ATTACH;FMTTYPE=image/jpeg:https://www.herzog-magazin.de/wp-content/uploads/2023/05/Christi-Himmelfahrt-oekumenischer-Gottesdienst-Brueckenkopf-Park-Foto-Arne-Schenk.jpg
ORGANIZER;CN="Evangelische%20Kirchengemeinde%20J%C3%BClich":MAILTO:juelich@ekir.de
END:VEVENT
END:VCALENDAR