    BEGIN:VCALENDAR
VERSION:2.0
PRODID:-//HERZOG Kultur- &amp; Stadtmagazin - ECPv4.9.2//NONSGML v1.0//EN
CALSCALE:GREGORIAN
METHOD:PUBLISH
X-WR-CALNAME:HERZOG Kultur- &amp; Stadtmagazin
X-ORIGINAL-URL:https://www.herzog-magazin.de
X-WR-CALDESC:Veranstaltungen im HERZOG Kultur- &amp; Stadtmagazin
BEGIN:VEVENT
DTSTART;TZID=Europe/Berlin:20230407T093000
DTEND;TZID=Europe/Berlin:20230407T093000
DTSTAMP:20260421T205032
CREATED:20230331T122811Z
LAST-MODIFIED:20230331T122904Z
UID:103926-1680859800-1680859800@www.herzog-magazin.de
SUMMARY:Ökumenischer Kreuzweg „Was ist uns heilig?“
DESCRIPTION:Ökumenischer Kreuzweg 2023 „Was ist uns heilig?“: Nachdem das gemeinsame Begehen des ökumenischen Kreuzweges pandemiebedingt ausgefallen war\, soll in diesem Jahr an der von vielen Menschen geschätzten Tradition wieder angeknüpft werden. So möchten die Vorbereitungsgruppe dazu einladen\, sich in der Fasten- oder auch Passionszeit auf das Ostergeheimnis vorzubereiten – genauer gesagt auf das besondere Geschehen von Tod und Auferstehung Jesu Christi.  \nDafür sind die Kreuzwege eine gute Erinnerung\, um betend und betrachtend den Leidensweg Jesu Christi in den Blick zu nehmen und nachzugehen in dem Wissen\, dass sich sein Kreuzweg auch heute ereignet: im Leben so vieler Menschen\, die die Last ihres Lebens spüren\, in der Schöpfung\, die geschunden und ausgebeutet nach Erlösung ruft.  \nDie Vorbereitungsgruppe aus den Kirchen Jülichs lädt auch in diesem Jahr wieder zu einem ökumenischen Kreuzweg auf die Sophienhöhe am Karfreitagmorgen\, 7. April\, ein. Treffpunkt beziehungsweise Abgang ist um 9.30 Uhr am Parkplatz an der Sophienhöhe bei Stetternich (ehemalige Grillhütte / Lotsenstelle 43).  \nInspiriert wird der Kreuzweg durch das aktuelle Misereor Hungertuch des Nigerianischen Künstlers Emeka Udemba. Er hat sein farbenstarkes Bild als Collage aus vielen Schichten ausgerissener Zeitungsschnipsel\, Kleber und Acryl aufgebaut. In einen freien rötliche Raum ragen zwei Unterarm- und Hand-Paare offen in die Fläche hinein. Ihre Hände berühren gemeinsam sachte die Erdkugel. Die Kugel bleibt in der Schwebe von Halten und Loslassen\, Schutz und Preisgabe. Für manche ist die Erde die gute Schöpfung Gottes\, für andere nur ein Spielball ihrer wirtschaftlicher und politischer Interessen.  \n
URL:https://www.herzog-magazin.de/event/oekumenischer-kreuzweg-2023-was-ist-uns-heilig/
LOCATION:Wanderparkplatz Sophienhöhe Hambach\, L 264\, Hambach\, NRW\, 52382\, Deutschland
GEO:50.902713;6.4531255
X-APPLE-STRUCTURED-LOCATION;VALUE=URI;X-ADDRESS=Wanderparkplatz Sophienhöhe Hambach L 264 Hambach NRW 52382 Deutschland;X-APPLE-RADIUS=500;X-TITLE=L 264:geo:6.4531255,50.902713
CATEGORIES:Brauchtum,Exkursion,Religion
ATTACH;FMTTYPE=image/jpeg:https://www.herzog-magazin.de/wp-content/uploads/2023/03/Kreuzweg-2018-Netz.jpg
ORGANIZER;CN="%C3%96kumenischer%20Ausschuss%20%E2%80%9EKirche%20in%20J%C3%BClich%E2%80%9C":MAILTO:redaktion@kirche-juelich.de
END:VEVENT
END:VCALENDAR