    BEGIN:VCALENDAR
VERSION:2.0
PRODID:-//HERZOG Kultur- &amp; Stadtmagazin - ECPv4.9.2//NONSGML v1.0//EN
CALSCALE:GREGORIAN
METHOD:PUBLISH
X-WR-CALNAME:HERZOG Kultur- &amp; Stadtmagazin
X-ORIGINAL-URL:https://www.herzog-magazin.de
X-WR-CALDESC:Veranstaltungen im HERZOG Kultur- &amp; Stadtmagazin
BEGIN:VEVENT
DTSTART;TZID=Europe/Berlin:20191026T190000
DTEND;TZID=Europe/Berlin:20191026T190000
DTSTAMP:20260426T021452
CREATED:20190925T101342Z
LAST-MODIFIED:20190925T101342Z
UID:29564-1572116400-1572116400@www.herzog-magazin.de
SUMMARY:Oktoberfest in Oberzier
DESCRIPTION:Bereits zum 9. Mal lädt der Ballspielclub 1910 Oberzier zum Oktoberfest nach Oberzier ein. Gefeiert wird wieder im herrlich geschmückten Festzelt „Am Sportplatz“ am Samstag\, 26. Oktober\, ab 20:00 Uhr – Einlass ab 19:00 Uhr. Auch in diesem Jahr konnte der BCO wieder die Members aus dem bayerischen Seybothenreuth verpflichten\, die bereits 2012\, 2013\, 2017 und 2018 das Publikum begeisterten.  \nBandchef Gerhard Feulner: „Wir freuen uns jedes Jahr auf die feierwütigen Rheinländer aus Oberzier und Umgebung – für uns ist dieses Konzert ein Highlight in unserem rappelvollen Terminkalender mit mehr als 100 Auftritten jährlich. Auch der Kontakt zu den Verantwortlichen des BCO reißt übers Jahr gesehen nie ab\, ein Novum!“ Die Members versprechen wieder Party\, Party\, Party – nicht umsonst sind sie nun bereits seit 10 Jahren auf dem Cannstatter Was´n die Hausband im Schwabenbräuzelt und seit 2017 sind sie ebenfalls die Hausband der Deutschen Messe AG in Hannover. 2012 und 2014 gewannen sie den Fachmedienpreis als beste Stimmungs- und Partyband Deutschlands. \n
URL:https://www.herzog-magazin.de/event/oktoberfest-in-oberzier-2/
CATEGORIES:Brauchtum,Musik,Musik & Konzerte
ATTACH;FMTTYPE=image/jpeg:https://www.herzog-magazin.de/wp-content/uploads/2018/10/Oktoberfest_.jpg
ORGANIZER;CN="Ballspielclub%201910%20Oberzier%20e.V.":MAILTO:thomas.klein@bco1910.org
END:VEVENT
END:VCALENDAR