    BEGIN:VCALENDAR
VERSION:2.0
PRODID:-//HERZOG Kultur- &amp; Stadtmagazin - ECPv4.9.2//NONSGML v1.0//EN
CALSCALE:GREGORIAN
METHOD:PUBLISH
X-WR-CALNAME:HERZOG Kultur- &amp; Stadtmagazin
X-ORIGINAL-URL:https://www.herzog-magazin.de
X-WR-CALDESC:Veranstaltungen im HERZOG Kultur- &amp; Stadtmagazin
BEGIN:VEVENT
DTSTART;TZID=Europe/Berlin:20191002T080000
DTEND;TZID=Europe/Berlin:20191002T080000
DTSTAMP:20260421T230926
CREATED:20190912T133200Z
LAST-MODIFIED:20190912T133200Z
UID:29051-1570003200-1570003200@www.herzog-magazin.de
SUMMARY:Oktobertermine des Eifelvereins Jülich
DESCRIPTION:Mittwoch\, 2. Oktober\nZu einer Wanderung am Indemann\, etwa 12 Kilometer mit Einkehr\, trifft sich die Tagesgruppe um 8:00 Uhr mit Norbert Kochs Tel. 02461 / 4329 auf dem Parkplatz am Bahnhof. \nDie Nachmittagsgruppe trifft sich um 14:00 Uhr mit Dieter Dreilich\nTel. 01515 / 7746963 am Schwanenteich zu einer rund 10 Kilometer langen Wanderung mit Einkehr von Jülich nach Stetternich. \nMontag\, 7. Oktober\nZu einer Fahrradtour „um Jülich“ mit Einkehr\, bei der 20 bis 40 Kilometer zurückzulegen sind\, treffen sich die Mitfahrer bei geeignetem Wetter um 14:00 Uhr mit Karl-Josef Sentis (Tel. 02461 / 3404607) an der Stadionbrücke. \nMittwoch 9. Oktober\nUm 8:30 Uhr trifft sich die Gruppe am Bahnhof mit Heinz-Günter Haubold Tel. 02461 / 8428 zu einer ungefähr 15 Kilometer langen Wanderung mit Rucksackverpflegung von Mayschoss nach Ahrweiler auf dem Rotweinwanderweg. \nNachmittags geht´s von Jülich nach Bourheim\, etwa 11 Kilometer mit Einkehr. Treffpunkt ist um 14:00 Uhr am Schwanenteich mit Ingrid Buchkremer\, Tel. 0173 / 9558431. \nSonntag\, 13. Oktober\nEine ungefähr 15 Kilometer lange Wanderung im Broichbachtal mit Einkehr begleitet Albert Fischermann\, Tel. 02463 / 1243. Treffpunkt ist um  8:30 Uhr am Parkstreifen Kartäuserstraße.	 \nDie Jugendgruppe trifft sich am gleichen Tag mit Dagmar Klinkenberg\, Tel. 02461 / 50427\, um 10:00 Uhr am Bahnhof zu einer Wanderung in der Terra Nova und anschließendem Fußballgolf.	 \nMittwoch\, 16. Oktober\nEine 12-Kilometer-Wanderung durch den Probsteier und Aachener Reichswald nach Stolberg mit Einkehr unternehmen die Wanderer mit Norbert Kochs\, Tel. 02461 / 4329. Treffpunkt ist um 8:25 Uhr am Bahnhof.	 \nDie Nachmittagsgruppe trifft sich um 14:00 Uhr am Schwanenteich mit Käthe Sieber\, Tel. 02462 / 9058417 zu einer etwa 7 Kilometer langen Wanderung um den Park zur Zitadelle mit Einkehr. \nMontag\, 21. Oktober\nZu einer Fahrradtour „um Jülich“ mit Einkehr\,  bei der 20 bis 40 Kilometer zurückzulegen sind\, treffen sich die Mitfahrer bei geeignetem Wetter um 14:00 Uhr mit Karl-Josef Sentis\, Tel. 02461 / 3404607\, an der Stadionbrücke. \nMittwoch\, 23. Oktober\nZu einer 15-Kilometer-Wanderung über die Heckenland-Route (Dedenborn\, Rurtal) mit Rucksackverpflegung treffen sich die Teilnehmer um 8:30 Uhr am Bahnhof mit Heinz-Günter Haubold\, Tel. 02461 / 8428. \nNachmittags geht´s um 14:00 Uhr entlang der Rur zur Kleingartenanlage\, etwa 8 Kilometer mit Einkehr begleitet von Resi Wolff ab Schwanenteich. \nSonntag 27. Oktober\nDie Teilnehmer treffen sich um 9:00 Uhr am Parkstreifen Kartäuserstraße mit Theo Liesen\, Tel. 02461 / 81386\, zu einer 16-Kilometer-Wanderung mit Einkehr im Jülicher Land. \nMittwoch\, 30. Oktober\nHans-Egon Drews\, Tel. 02461 / 8416\, begleitet eine 12 Kilometer lange Wanderung mit Einkehr von Langerwehe nach Kammerbusch\, Heistern\, Wenau zur Laufenburg. Los geht´s um 8:25 Uhr ab Bahnhof. \nNachmittags geht´s 9 Kilometer weit mit Einkehr um 14:00 Uhr ab Schwanenteich von Jülich nach Broich\, begleitet von Anita Heckhausen\, Tel. 01577 / 7199443. \nWeitere Informationen hält die Ortsgruppe Jülich im Internet unter www.eifelverein-juelich.de bereit. \n
URL:https://www.herzog-magazin.de/event/oktobertermine-des-eifelvereins-juelich/2019-10-02/
LOCATION:NRW\, Deutschland
CATEGORIES:Sonstiges,Sport
ATTACH;FMTTYPE=image/jpeg:https://www.herzog-magazin.de/wp-content/uploads/2018/04/Wandervögel-wieder-unterwegs_Foto_maxmann_pixabay.jpg
ORGANIZER;CN="Eifelverein%20J%C3%BClich%20e.V.":MAILTO:info@eifelverein-juelich.de
END:VEVENT
END:VCALENDAR