    BEGIN:VCALENDAR
VERSION:2.0
PRODID:-//HERZOG Kultur- &amp; Stadtmagazin - ECPv4.9.2//NONSGML v1.0//EN
CALSCALE:GREGORIAN
METHOD:PUBLISH
X-WR-CALNAME:HERZOG Kultur- &amp; Stadtmagazin
X-ORIGINAL-URL:https://www.herzog-magazin.de
X-WR-CALDESC:Veranstaltungen im HERZOG Kultur- &amp; Stadtmagazin
BEGIN:VEVENT
DTSTART;TZID=Europe/Berlin:20191007T200000
DTEND;TZID=Europe/Berlin:20191007T200000
DTSTAMP:20260420T032917
CREATED:20190919T081508Z
LAST-MODIFIED:20190919T081813Z
UID:29253-1570478400-1570478400@www.herzog-magazin.de
SUMMARY:ONCE UPON A TIME… IN HOLLYWOOD
DESCRIPTION:Komödie | USA 2019 | FSK: ab 16 | Regie: Quentin Tarantino | Darsteller: Brad Pitt\, Leonardo DiCaprio\, Margot Robbie\, Dakota Fanning\, Al Pacino\, Margaret Qualley\, Tim Roth\, Kurt Russell\, Damian Lewis \nQuentin Tarantinos ONCE UPON A TIME… IN HOLLYWOOD spielt im Los Angeles von 1969\, zu einer Zeit\, als alles im Umbruch ist. Auch TV-Star Rick Dalton und sein langjähriges Stunt-Double Cliff Booth müssen sich in einer Branche zurechtfinden\, die sie kaum mehr wiedererkennen. \nDer neunte Film von Kultregisseur und Drehbuchautor Quentin Tarantino wartet mit einer großen Ensemble-Besetzung und zahlreichen Erzählsträngen auf und huldigt den letzten Momenten von Hollywoods goldenem Zeitalter. \nMit Spannung und gewisser Sorge wurde in der Filmwelt die Nachricht aufgenommen\, dass Quentin Tarantino sich in seinem neunten Film „Once Upon A Time…In Hollywood“ mit dem Jahr 1969\, vor allem aber den Manson-Morden beschäftigen würde. Umso größer dann die Überraschung\, dass er in Cannes einen Film vorstellte\, der erstaunlich zurückgenommen\, ja geradezu sensibel eine Zeit beschwört\, in der das Kino und die amerikanische Gesellschaft vor einschneidenden Umbrüchen stand. (programmkini.de) \n
URL:https://www.herzog-magazin.de/event/once-upon-a-time-in-hollywood/2019-10-07/
LOCATION:Kulturbahnhof (KuBa) Jülich\, Bahnhofsstraße 13\, Jülich\, NRW\, 52428\, Deutschland
GEO:50.91828;6.36768
X-APPLE-STRUCTURED-LOCATION;VALUE=URI;X-ADDRESS=Kulturbahnhof (KuBa) Jülich Bahnhofsstraße 13 Jülich NRW 52428 Deutschland;X-APPLE-RADIUS=500;X-TITLE=Bahnhofsstraße 13:geo:6.36768,50.91828
CATEGORIES:Kino
ATTACH;FMTTYPE=image/jpeg:https://www.herzog-magazin.de/wp-content/uploads/2019/09/maxresdefault-1.jpg
ORGANIZER;CN="KuBa%20J%C3%BClich":MAILTO:info@kuba-juelich.de
END:VEVENT
END:VCALENDAR