    BEGIN:VCALENDAR
VERSION:2.0
PRODID:-//HERZOG Kultur- &amp; Stadtmagazin - ECPv4.9.2//NONSGML v1.0//EN
CALSCALE:GREGORIAN
METHOD:PUBLISH
X-WR-CALNAME:HERZOG Kultur- &amp; Stadtmagazin
X-ORIGINAL-URL:https://www.herzog-magazin.de
X-WR-CALDESC:Veranstaltungen im HERZOG Kultur- &amp; Stadtmagazin
BEGIN:VEVENT
DTSTART;TZID=Europe/Berlin:20220412T190000
DTEND;TZID=Europe/Berlin:20220412T190000
DTSTAMP:20260421T124137
CREATED:20220405T120620Z
LAST-MODIFIED:20220405T120821Z
UID:77105-1649790000-1649790000@www.herzog-magazin.de
SUMMARY:Diskussion: Integration von Geflüchteten
DESCRIPTION:Angesichts des Kriegs in der Ukraine ist das Thema Integration erneut in die öffentliche Aufmerksamkeit gerückt. Die Landtagskandidatin Isabel Elsner von Bündnis 90 / Die Grünen lädt am Dienstag\, 12. April\, ein\, über die aktuelle Situation angesichts der gestiegenen und wohl weiter steigenden Anzahl fliehender Menschen aus der Ukraine\, aber auch generelle Aspekte zu sprechen.  \nZu Gast ist Hassan Hassno\, Mitglied des Vorstands der Grünen in Mechernich und ehrenamtlicher Übersetzer für für das Kommunale Bildungs- und Integrationszentrum KoBIZ im Kreis Euskirchen. Schwerpunktthemen der Diskussion werden Beratungsangebote und Bildungsangebote für Geflüchtete sein und die Chancen\, die mit erfolgreicher Integrationspolitik einhergehen können. \nBeginn ist um 19 Uhr. Die Diskussion findet online\, über Zoom statt. Der Link: \nhttps://us02web.zoom.us/j/88267509568?pwd=WlZ1MDh1VHo3aTMvemsxaE1wZUNGQT09 \nOder über: \nMeeting-ID: 882 6750 9568\nKenncode: 311728 \nEine vorherige Anmeldung ist nicht notwendig. \n
URL:https://www.herzog-magazin.de/event/online-diskussion-integration-von-gefluechteten/
LOCATION:NRW\, Deutschland
CATEGORIES:Informationsveranstaltung,Online-Veranstaltung,Politik,Rat & Hilfe
ATTACH;FMTTYPE=image/jpeg:https://www.herzog-magazin.de/wp-content/uploads/2022/04/Onlinediskussion-Grüne.jpg
ORGANIZER;CN="B%C3%BCndnis%2090%2FDie%20Gr%C3%BCnen%20Kreisverband%20D%C3%BCren":MAILTO:kreisverband@gruene-dueren.de
END:VEVENT
END:VCALENDAR