    BEGIN:VCALENDAR
VERSION:2.0
PRODID:-//HERZOG Kultur- &amp; Stadtmagazin - ECPv4.9.2//NONSGML v1.0//EN
CALSCALE:GREGORIAN
METHOD:PUBLISH
X-WR-CALNAME:HERZOG Kultur- &amp; Stadtmagazin
X-ORIGINAL-URL:https://www.herzog-magazin.de
X-WR-CALDESC:Veranstaltungen im HERZOG Kultur- &amp; Stadtmagazin
BEGIN:VEVENT
DTSTART;TZID=Europe/Berlin:20211211T163000
DTEND;TZID=Europe/Berlin:20211211T163000
DTSTAMP:20260420T002533
CREATED:20211128T194805Z
LAST-MODIFIED:20211128T194805Z
UID:71855-1639240200-1639240200@www.herzog-magazin.de
SUMMARY:Overbacher Adventssingen
DESCRIPTION:Das Overbacher Adventssingen steigt am  Samstag\, 11. Dezember\, um 16.30 und 19 Uhr sowie am Sonntag\, 12. Dezember\, 16.30 Uhr in der Klosterkirche Haus Overbach. Beteiligt sind das Overbacher Blasorchester\, das Overbacher Sinfonieorchester\, der Overbacher Kinderchor sowie der Junge Chor Overbach unter Leitung von Ulrike Erdtmann\, Stephan Hebeler und Kerry Jago. Nach der Absage 2020 freuen sich die Kinder- und Jugendensembles von Haus Overbach darauf\, ihre traditionelle Familienveranstaltung mit alter und neuer Weihnachtsmusik aus verschiedenen Ländern und Stilrichtungen wieder präsentieren zu können. \nDer Eintritt kostet 6 bis 12 Euro. Der Kartenverkauf findet ab sofort an Schultagen von 9 bis 13 Uhr im Sekretariat des Gymnasiums Haus Overbach\, Tel. 02461 / 930300\, statt. \n
URL:https://www.herzog-magazin.de/event/overbacher-adventssingen-2/2021-12-11/
LOCATION:Klosterkirche Haus Overbach\, Franz-von-Sales-Weg\, Barmen\, NRW\, 52428\, Deutschland
GEO:50.9417792;6.3109234
X-APPLE-STRUCTURED-LOCATION;VALUE=URI;X-ADDRESS=Klosterkirche Haus Overbach Franz-von-Sales-Weg Barmen NRW 52428 Deutschland;X-APPLE-RADIUS=500;X-TITLE=Franz-von-Sales-Weg:geo:6.3109234,50.9417792
CATEGORIES:Musik,Musik & Konzerte
ATTACH;FMTTYPE=image/jpeg:https://www.herzog-magazin.de/wp-content/uploads/2021/11/Overbach-Saleshof-Schule-YUN00066.jpg
END:VEVENT
END:VCALENDAR