    BEGIN:VCALENDAR
VERSION:2.0
PRODID:-//HERZOG Kultur- &amp; Stadtmagazin - ECPv4.9.2//NONSGML v1.0//EN
CALSCALE:GREGORIAN
METHOD:PUBLISH
X-WR-CALNAME:HERZOG Kultur- &amp; Stadtmagazin
X-ORIGINAL-URL:https://www.herzog-magazin.de
X-WR-CALDESC:Veranstaltungen im HERZOG Kultur- &amp; Stadtmagazin
BEGIN:VEVENT
DTSTART;TZID=Europe/Berlin:20191103T110000
DTEND;TZID=Europe/Berlin:20191103T110000
DTSTAMP:20260424T062018
CREATED:20191012T160206Z
LAST-MODIFIED:20191012T160231Z
UID:30005-1572778800-1572778800@www.herzog-magazin.de
SUMMARY:Overbacher Sonntagsmatinee mit Mahler- und Schubertliedern
DESCRIPTION:„Ich bin der Welt abhanden gekommen“ ist der Titel der Overbacher Sonntagsmatinee am Sonntag\, 3. November\, um 12:00 Uhr in der Klosterkirche Haus Overbach. Die estnische Mezzosopranistin Maarja Purga und die ebenfalls aus Estland stammende Pianistin Hanna Heinmaa schon zum dritten Mal eine Overbacher Sonntagsmatinee. Dieses Mal kommen Lieder von Gustav Mahler und Franz Schubert unter dem Titel „Ich bin der Welt abhanden gekommen“ zur Aufführung. Passend zum Allerseelen und Allerheiligen berichten diese Lieder über das Leben sowohl in der irdischen als auch in der himmlischen Welt und über alles\, was sich zwischen diesen beiden Welten befindet. \nDer Eintritt ist frei.  \n
URL:https://www.herzog-magazin.de/event/overbacher-sonntagsmatinee-mit-mahler-und-schubertliedern/
LOCATION:Klosterkirche Haus Overbach\, Franz-von-Sales-Weg\, Barmen\, NRW\, 52428\, Deutschland
GEO:50.9417792;6.3109234
X-APPLE-STRUCTURED-LOCATION;VALUE=URI;X-ADDRESS=Klosterkirche Haus Overbach Franz-von-Sales-Weg Barmen NRW 52428 Deutschland;X-APPLE-RADIUS=500;X-TITLE=Franz-von-Sales-Weg:geo:6.3109234,50.9417792
CATEGORIES:Musik,Musik & Konzerte
ATTACH;FMTTYPE=image/jpeg:https://www.herzog-magazin.de/wp-content/uploads/2019/10/Marja-Purga-und-Hanna-Heinmaa.jpg
END:VEVENT
END:VCALENDAR