    BEGIN:VCALENDAR
VERSION:2.0
PRODID:-//HERZOG Kultur- &amp; Stadtmagazin - ECPv4.9.2//NONSGML v1.0//EN
CALSCALE:GREGORIAN
METHOD:PUBLISH
X-WR-CALNAME:HERZOG Kultur- &amp; Stadtmagazin
X-ORIGINAL-URL:https://www.herzog-magazin.de
X-WR-CALDESC:Veranstaltungen im HERZOG Kultur- &amp; Stadtmagazin
BEGIN:VEVENT
DTSTART;TZID=Europe/Berlin:20230302T193000
DTEND;TZID=Europe/Berlin:20230302T193000
DTSTAMP:20260421T010413
CREATED:20230203T124239Z
LAST-MODIFIED:20230203T124239Z
UID:98425-1677785400-1677785400@www.herzog-magazin.de
SUMMARY:Overbacher Special: Musikalische Lesung
DESCRIPTION:Der Förderverein des Gymnasiums Haus Overbach freut sich sehr\, in diesem Jahr wieder ein Overbacher Special präsentieren zu dürfen. Sylvie Schenk mit ihrem aktuellen Roman „Maman“ wird am Donnerstag\, 2. März\, im Forum des Science Colleges zu Gast sein und dabei musikalisch von Heribert Leuchter begleitet. Beginn der Veranstaltung ist um 19.30 Uhr. Einlass wird ab 19 Uhr gewährt. \n„Maman“ ist eine Annäherung an die eigene Mutter und zugleich eine schmerzhafte Abrechnung: 1916 wird Sylvie Schenks Mutter geboren\, die Großmutter stirbt bei der Geburt. Angeblich war diese eine Seidenarbeiterin wie schon die Urgroßmutter. Aber stimmt das? Und welche Geschichte wird den Nachkommenden mit auf den Weg gegeben? Als Kind leidet Sylvie Schenk unter dieser Unklarheit\, als Schriftstellerin ist sie deshalb noch immer von großer Unruhe geprägt. Mit poetischer Präzision spürt sie den Fragen nach\, die die eigene Familiengeschichte offenlässt.  \n„Maman“ ist waghalsiges Unterfangen und explosive Literatur zugleich. Nach „Schnell\, dein Leben“ hat die Autorin\, die in Frankreich geboren wurde und mittlerweile in der Nähe von Aachen lebt\, erneut einen Text voll Schönheit und Temperament geschrieben. Der Aachener Musiker Heribert Leuchter hat erneut eigens für die gemeinsamen Auftritte Kompositionen zu Sylvie Schenks Roman geschrieben.  \nKarten sind über den Ticketshop der Schule sowie über https://pretix.eu/GymHausOverbach/ erhältlich und kosten 10 Euro für Erwachsene sowie 5 Euro für Schülerinnen und Schüler. \n
URL:https://www.herzog-magazin.de/event/overbacher-special-musikalische-lesung/
LOCATION:Science College\, Haus Overbach\, Barmen\, NRW\, 52428\, Deutschland
GEO:50.9420214;6.3062883
X-APPLE-STRUCTURED-LOCATION;VALUE=URI;X-ADDRESS=Science College Haus Overbach Barmen NRW 52428 Deutschland;X-APPLE-RADIUS=500;X-TITLE=Haus Overbach:geo:6.3062883,50.9420214
CATEGORIES:Literatur,Musik,Musik & Konzerte
ATTACH;FMTTYPE=image/jpeg:https://www.herzog-magazin.de/wp-content/uploads/2023/02/Sylvie-Schenk-Heribert-Leuchter.jpg
ORGANIZER;CN="F%C3%B6rderverein%20Gymnasium%20Haus%20Overbach":MAILTO:Jugendarbeit@overbach.de
END:VEVENT
END:VCALENDAR