    BEGIN:VCALENDAR
VERSION:2.0
PRODID:-//HERZOG Kultur- &amp; Stadtmagazin - ECPv4.9.2//NONSGML v1.0//EN
CALSCALE:GREGORIAN
METHOD:PUBLISH
X-WR-CALNAME:HERZOG Kultur- &amp; Stadtmagazin
X-ORIGINAL-URL:https://www.herzog-magazin.de
X-WR-CALDESC:Veranstaltungen im HERZOG Kultur- &amp; Stadtmagazin
BEGIN:VEVENT
DTSTART;TZID=Europe/Berlin:20230915T164500
DTEND;TZID=Europe/Berlin:20230915T164500
DTSTAMP:20260423T100357
CREATED:20230817T130734Z
LAST-MODIFIED:20230817T130734Z
UID:112543-1694796300-1694796300@www.herzog-magazin.de
SUMMARY:Parents for Future: Fahrraddemo
DESCRIPTION:Die Jülicher Ortsgruppen der Parents for Future und Fridays for Future wollen beim diesjährigen Globalen Klimastreik am Freitag\, 15. September\, das Thema Mobilität in den Vordergrund rücken. Dazu treffen sich die Ortsgruppe und Gleichgesinnte um 16.45 Uhr auf dem Schlossplatz in Jülich. \nDie Stadt Jülich hat bereits im Juni 2021 ein Mobilitätskonzept beschlossen\, das viele Maßnahmen für mehr Sicherheit und direktere Verbindungen im Fahrradverkehr enthält. Doch seitdem sind zwei Jahre verstrichen – umgesetzt sei fast nichts worden\, erklären Parents for Future. Insbesondere die als besonders gefährlich eingestuften Kreuzungen und Strecken seien nach wie vor nicht entschärft.  \nAlle\, die für eine entschlossene Umsetzung des Mobilitätskonzepts und ein fahrrad- und fußgängerfreundliches Jülich demonstrieren wollen\, sollen sich daher am 15. September ab 16.45 Uhr auf dem Schlossplatz treffen. Um 17 Uhr beginnt die Fahrraddemo. Die Strecke beträgt etwa 6 Kilometer. \nDie Jülicher Ortsgruppe von Parents for Future befasst sich im Rahmen ihres Mitmachkalenders (parentsforfuture-juelich.de/mitmachkalender-2023) jeden Monat mit kleinen Schritten für eine Veränderung hin zu einer nachhaltigeren Lebensweise\, unter anderem zum Thema Mobilität. Damit die Menschen aber sicher und bequem ihre Ziele per Rad oder zu Fuß erreichen könnten\, bräuchten sie eine entsprechende Infrastruktur. \n
URL:https://www.herzog-magazin.de/event/parents-for-future-fahrraddemo/
LOCATION:Schlossplatz\, Jülich\, NRW\, 52428\, Deutschland
CATEGORIES:Auto / Motorrad / Fahrzeuge,Exkursion,Natur / Umwelt
ATTACH;FMTTYPE=image/jpeg:https://www.herzog-magazin.de/wp-content/uploads/2022/07/Parents-for-Future-Jülich-Netz-NEU.jpg
ORGANIZER;CN="Parents%20for%20Future%20J%C3%BClich":MAILTO:juelich@parentsforfuture.de
END:VEVENT
END:VCALENDAR