    BEGIN:VCALENDAR
VERSION:2.0
PRODID:-//HERZOG Kultur- &amp; Stadtmagazin - ECPv4.9.2//NONSGML v1.0//EN
CALSCALE:GREGORIAN
METHOD:PUBLISH
X-WR-CALNAME:HERZOG Kultur- &amp; Stadtmagazin
X-ORIGINAL-URL:https://www.herzog-magazin.de
X-WR-CALDESC:Veranstaltungen im HERZOG Kultur- &amp; Stadtmagazin
BEGIN:VEVENT
DTSTART;TZID=Europe/Berlin:20230413T200000
DTEND;TZID=Europe/Berlin:20230413T200000
DTSTAMP:20260422T185851
CREATED:20230331T152053Z
LAST-MODIFIED:20230331T152053Z
UID:103946-1681416000-1681416000@www.herzog-magazin.de
SUMMARY:Partnerbörse im KuBa
DESCRIPTION:Die krankheitsbedingt verschobenen Lieder- und Theaterabende der Gesellschaft Frohsinn Stetternich werden vom 13. bis 16. April nachgeholt. In Stetternich suchen in der Komödie Landeier weiterhin unsere Bauern die passende Frau für sich.  \nEtwas Entscheidendes fehlt: der passende Deckel zum Topf\, sprich Frauen. Aber woher nehmen? Sind Kontaktanzeigen noch angesagt? Sollte man Partnervermittlungen „mit Niveau“ ausprobieren? Oder bieten Chatrooms und Videoportale im Internet die zeitgemäße Möglichkeit\, Frauen für das Landleben samt ihrer Ureinwohner und deren Zeitvertreibe à la Treckertuning zu begeistern?  \n„Landeier oder… Bauern suchen Frauen“ heißt das Theaterstück der Gesellschaft Frohsinn\, das die Laienschauspielgruppe unter der Regie von Angelika Ponten auf die Bühne bringt. Im beschaulichen Stetternich führen die Helden dieser Komödie ein beschauliches Dasein. Auf der Bühne zu sehen sein werden Holger Bagusat\, Meinhard Bock\, David Kebrich\, Julia Eckardt\, Wolfgang Schulz\, Petra Vallentin und Maik Boltes. \nTraditionell werden diese Lieder- und Theaterabende musikalisch vom Männerchor unter Leitung von Inge Duwe eingerahmt. \nAlle Karten vom Oktober 2022 behalten für den jeweiligen Wochentag ihre Gültigkeit. Aktuelle Informationen sind immer im Internet unter frohsinn-stetternich.de zu finden. \nTermine sind am\nDo\, 13. April\, 20 Uhr\nFr\, 14. April\, 20 Uhr\nSa\, 15. April\, 19 Uhr\nSo\, 16. April\, 18 Uhr \nEinlass wird jeweils eine halbe Stunde vor Beginn gewährt. Tickets sind im Vorverkauf zu 10 Euro bei Cityfriseurin Dunja\, in Jülich Große Rurstraße 36\, erhältlich. \n
URL:https://www.herzog-magazin.de/event/partnerboerse-im-kuba/2023-04-13/
LOCATION:Kulturbahnhof (KuBa) Jülich\, Bahnhofsstraße 13\, Jülich\, NRW\, 52428\, Deutschland
GEO:50.91828;6.36768
X-APPLE-STRUCTURED-LOCATION;VALUE=URI;X-ADDRESS=Kulturbahnhof (KuBa) Jülich Bahnhofsstraße 13 Jülich NRW 52428 Deutschland;X-APPLE-RADIUS=500;X-TITLE=Bahnhofsstraße 13:geo:6.36768,50.91828
CATEGORIES:Theater
ATTACH;FMTTYPE=image/jpeg:https://www.herzog-magazin.de/wp-content/uploads/2023/03/Frohsinn-Stetternich-Bauern-suchen-Frauen.jpg
ORGANIZER;CN="Stadt%20J%C3%BClich":MAILTO:info@juelich.de
END:VEVENT
END:VCALENDAR