    BEGIN:VCALENDAR
VERSION:2.0
PRODID:-//HERZOG Kultur- &amp; Stadtmagazin - ECPv4.9.2//NONSGML v1.0//EN
CALSCALE:GREGORIAN
METHOD:PUBLISH
X-WR-CALNAME:HERZOG Kultur- &amp; Stadtmagazin
X-ORIGINAL-URL:https://www.herzog-magazin.de
X-WR-CALDESC:Veranstaltungen im HERZOG Kultur- &amp; Stadtmagazin
BEGIN:VEVENT
DTSTART;TZID=Europe/Berlin:20221204T110000
DTEND;TZID=Europe/Berlin:20221204T110000
DTSTAMP:20260425T191120
CREATED:20221115T145135Z
LAST-MODIFIED:20221115T145135Z
UID:93690-1670151600-1670151600@www.herzog-magazin.de
SUMMARY:Pasqualini-Vortrag von Rüdiger Urban
DESCRIPTION:Einen Einblick in das Buch „Alessandro Pasqualinis Entwurfsmodell von 1545 für den Renaissance-Neubau der herzoglichen Residenz zu Jülich“ gibt Rüdiger Urban in einem virtuellen Vortrag am Sonntag\, 4. Dezember\, um 11 Uhr. Autor des Buches ist Prof. Dr. Jürgen Eberhardt\, der durch die jahrzehntelange Auseinandersetzung mit dem baukulturellen Erbe Pasqualinis einer der intimsten Kenner der historischen Stadtgestalt Jülichs ist.  \nDie für Herzog Wilhelm V. von Jülich-Kleve-Berg (1516-1592) errichtete Zitadelle Jülich ist ein herausragendes Zeugnis italienischer Architekturvorstellungen der Renaissance in Nord-Westeuropa. Da sich kein zeitgenössisches Planmaterial des Architekten Alessandro Pasqualini erhalten hat\, kommt dem in zwei Fotografien dokumentierten Entwurfsmodell aus dem Jahr 1545 ein besonderer Quellenwert zu.  \nIn der vorliegenden Studie hat der Autor dieses Modell einer umfassenden Analyse im Hinblick auf die geometrischen Grundlagen des Planungsprozesses unterzogen. Daraus ergeben sich weiterführende Überlegungen zu den mathematischen und philosophischen Hintergründen der pasqualinischen Architektur in Jülich.  \nDiese Analyse der geometrischen Zusammenhänge in dem Modell-Grundriss der Zitadelle und ihre Bedeutung für die reduzierte Ausführungsplanung von 1549 bilden den Schwerpunkt des Vortrages. Der gut einstündige Vortrag richtet sich insbesondere an diejenigen\, die Freude an Geometrie und Interesse an den philosophischen Hintergründen der Baupläne Pasqualinis haben.  \nEs ergeben sich zudem interessante Bezüge zum Vortrag von Dr. Sonja Ulrike Klug\, die sich in ihrem Vortrag Ende November auf die Spurensuche nach den Architekturzeichnungen des Mittelalters begeben hat und dabei auch die Entwicklung des zeichnerischen Könnens der Baumeister vom Mittelalter bis zur Renaissance thematisiert hat. \nDer Internetzugang zu dem virtuellen Vortrag von Rüdiger Urban wird auf der Internetseite www.festungsstadt-juelich.de des Fördervereins bekannt gegeben. Die zahlreichen geometrischen Darstellungen lassen sich am besten auf einem großen Bildschirm verfolgen. \nFoto: Residenzschloss-Anlage Jülich. Das 1944 in München verbrannte Entwurfsmodell Alessandro Pasqualinis von 1545 im Draufsicht-Foto von 1930. Foto: Bayerisches Nationalmuseum\, München \n
URL:https://www.herzog-magazin.de/event/pasqualini-vortrag-von-ruediger-urban/
LOCATION:online\, NRW\, Deutschland
CATEGORIES:Architektur,kulturelle Bildung,Vortrag
ATTACH;FMTTYPE=image/jpeg:https://www.herzog-magazin.de/wp-content/uploads/2022/11/Zitadelle_Urentwurf-Foto-Bayerisches-Nationalmuseum-Muenchen.jpg
ORGANIZER;CN="Stadt%20J%C3%BClich":MAILTO:info@juelich.de
END:VEVENT
END:VCALENDAR