    BEGIN:VCALENDAR
VERSION:2.0
PRODID:-//HERZOG Kultur- &amp; Stadtmagazin - ECPv4.9.2//NONSGML v1.0//EN
CALSCALE:GREGORIAN
METHOD:PUBLISH
X-WR-CALNAME:HERZOG Kultur- &amp; Stadtmagazin
X-ORIGINAL-URL:https://www.herzog-magazin.de
X-WR-CALDESC:Veranstaltungen im HERZOG Kultur- &amp; Stadtmagazin
BEGIN:VEVENT
DTSTART;TZID=Europe/Berlin:20250507T140000
DTEND;TZID=Europe/Berlin:20250507T140000
DTSTAMP:20260422T145200
CREATED:20250404T114722Z
LAST-MODIFIED:20250404T114953Z
UID:145840-1746626400-1746626400@www.herzog-magazin.de
SUMMARY:Pedelec-Training mit der Polizei
DESCRIPTION:Die Sonne scheint\, die Temperaturen steigen – perfektes Wetter für eine Radtour. Doch gerade für Einsteiger kann der Umgang mit einem Pedelec oder E-Bike ungewohnt sein. Das Pedelec-Training für Anfänger hilft dabei\, sicher durch den Verkehr zu kommen. \nIn eineinhalb Stunden lernen Sie die wichtigsten Verkehrsregeln\, Gefahrenstellen und den sicheren Umgang mit dem Elektroantrieb kennen. Praktische Übungen – vom Slalom über enge Kurven bis zur Gefahrenbremsung – geben Ihnen Sicherheit für den Alltag. Das Angebot ist kostenlos und richtet sich an alle Interessierten\, die den Umgang mit ihrem Pedelec trainieren wollen. \nAnmeldungen für die anderthalbstündigen Trainings sind ab sofort möglich. Wer teilnehmen möchte\, sollte sich an die Verkehrssicherheitsberaterinnen der Polizei unter der Telefonnummer 02421 / 949-5313 oder per Mail schriftlich an VUPO.Dueren@polizei.nrw.de wenden. Im Anschluss an die Anmeldung erhalten die Teilnehmenden Informationen zum genauen Treffpunkt. \nWichtig: Die Teilnehmerinnen und Teilnehmer sollten ein eigenes Pedelec oder E-Bike mitbringen und während der praktischen Fahrübungen einen Helm tragen. \n
URL:https://www.herzog-magazin.de/event/pedelec-training-mit-der-polizei/2025-05-07/
LOCATION:Allgemeiner Ort\, NRW\, Deutschland
CATEGORIES:Auto / Motorrad / Fahrzeuge,Verkehr
ATTACH;FMTTYPE=image/jpeg:https://www.herzog-magazin.de/wp-content/uploads/2025/04/PedelecvorPolizeibus1_web.jpg
END:VEVENT
END:VCALENDAR