    BEGIN:VCALENDAR
VERSION:2.0
PRODID:-//HERZOG Kultur- &amp; Stadtmagazin - ECPv4.9.2//NONSGML v1.0//EN
CALSCALE:GREGORIAN
METHOD:PUBLISH
X-WR-CALNAME:HERZOG Kultur- &amp; Stadtmagazin
X-ORIGINAL-URL:https://www.herzog-magazin.de
X-WR-CALDESC:Veranstaltungen im HERZOG Kultur- &amp; Stadtmagazin
BEGIN:VEVENT
DTSTART;TZID=Europe/Berlin:20260426T140000
DTEND;TZID=Europe/Berlin:20260426T160000
DTSTAMP:20260419T195207
CREATED:20260303T125658Z
LAST-MODIFIED:20260303T131752Z
UID:164847-1777212000-1777219200@www.herzog-magazin.de
SUMMARY:Pflanzentauschbörse in der AWO Jülich
DESCRIPTION:Pflanzenfreunde und Hobbygärtner dürfen sich freuen: Auch 2026 organisieren die Parents for Future Jülich erneut ihre beliebte Pflanzentauschbörse – und setzen dabei auf einen zentralen Treffpunkt mitten in der Stadt: die AWO Jülich. \nAm Sonntag\, 26. April öffnet die Börse von 14 bis 16 Uhr ihre Türen. Getauscht werden können heimische Stauden\, Gemüsepflanzen\, Ableger\, Samen\, Kräuter und sogar Gartenbücher. Das Prinzip ist unkompliziert: Eigene Pflanzen oder Samen mitbringen\, stöbern und neue grüne Schätze mit nach Hause nehmen. Wichtig ist\, dass alle mitgebrachten Pflanzen und Samen gut und eindeutig beschriftet sind. \nNeben dem Tauschen erwartet die Besucherinnen und Besucher ein buntes Rahmenprogramm: Kinder können unter Anleitung eigene Seedballs herstellen und so spielerisch erfahren\, wie einfach Blühflächen entstehen. Für die Erwachsenen stehen Kuchen und Getränke bereit – ideal für eine kleine Pause und den Austausch mit anderen Gartenbegeisterten. \nZusätzlich informiert ein Stand des Projekts „Zukunftsdörfer“ über heimische Artenvielfalt sowie über Fördermöglichkeiten für naturnahe Gestaltung in Privatgärten. \n
URL:https://www.herzog-magazin.de/event/pflanzentauschboerse-in-der-awo-juelich-copy/
LOCATION:AWO Begegnungszentrum Jülich\, Marie-Juchacz Weg 2\, Jülich\, NRW\, 52428\, Deutschland
CATEGORIES:Festival & Markt,Natur / Umwelt
ATTACH;FMTTYPE=image/jpeg:https://www.herzog-magazin.de/wp-content/uploads/2020/03/IMG_7571-scaled-e1585395869452.jpg
ORGANIZER;CN="Parents%20for%20Future%20J%C3%BClich":MAILTO:juelich@parentsforfuture.de
END:VEVENT
END:VCALENDAR