    BEGIN:VCALENDAR
VERSION:2.0
PRODID:-//HERZOG Kultur- &amp; Stadtmagazin - ECPv4.9.2//NONSGML v1.0//EN
CALSCALE:GREGORIAN
METHOD:PUBLISH
X-WR-CALNAME:HERZOG Kultur- &amp; Stadtmagazin
X-ORIGINAL-URL:https://www.herzog-magazin.de
X-WR-CALDESC:Veranstaltungen im HERZOG Kultur- &amp; Stadtmagazin
BEGIN:VEVENT
DTSTART;TZID=Europe/Berlin:20190929T093000
DTEND;TZID=Europe/Berlin:20190929T130000
DTSTAMP:20260423T100857
CREATED:20190820T132024Z
LAST-MODIFIED:20190820T132117Z
UID:27694-1569749400-1569762000@www.herzog-magazin.de
SUMMARY:Pilgerweg – Gottesdienst – Geselligkeit am See
DESCRIPTION:Der Barmener See wird von vielen Menschen in Jülich zum Spaziergang genutzt\, aber um einen Gottesdienst zu feiern? Das ist – zumindest für die evangelische Kirchengemeinde Jülich – neu! In diesem Jahr feiert sie am Sonntag\, 29. September\, um 11 Uhr ihren jährlichen Freiluftgottesdienst nicht auf der Sophienhöhe\, sondern am Badestrand des Barmener Sees. In diesem Gottesdienst werden mehrere Taufen gefeiert und somit die heilige Würde der Natur erlebt.  \nZum Auftakt des Morgens trifft sich eine Gruppe von Pilgern um 9.30 Uhr in der Christuskirche\, um dann entlang der Rur mit mehreren Stationen zum See zu gehen. Inhaltlich wird der Pilgerweg von den Konfirmandinnen und Konfirmanden vorbereitet und gestaltet. Nach dem Gottesdienst sind alle Teilnehmenden herzlich zu einem kleinen Imbiss und Getränken eingeladen. \n
URL:https://www.herzog-magazin.de/event/pilgerweg-gottesdienst-geselligkeit-am-see/
LOCATION:Barmener See\, Barmen\, NRW\, 52428\, Deutschland
GEO:50.9449031;6.303109
CATEGORIES:für Familien,Religion
ATTACH;FMTTYPE=image/jpeg:https://www.herzog-magazin.de/wp-content/uploads/2019/08/Barmener-See-Netz.jpg
ORGANIZER;CN="Evangelische%20Kirchengemeinde%20J%C3%BClich":MAILTO:juelich@ekir.de
END:VEVENT
END:VCALENDAR