    BEGIN:VCALENDAR
VERSION:2.0
PRODID:-//HERZOG Kultur- &amp; Stadtmagazin - ECPv4.9.2//NONSGML v1.0//EN
CALSCALE:GREGORIAN
METHOD:PUBLISH
X-WR-CALNAME:HERZOG Kultur- &amp; Stadtmagazin
X-ORIGINAL-URL:https://www.herzog-magazin.de
X-WR-CALDESC:Veranstaltungen im HERZOG Kultur- &amp; Stadtmagazin
BEGIN:VEVENT
DTSTART;TZID=Europe/Berlin:20241214T160000
DTEND;TZID=Europe/Berlin:20241214T160000
DTSTAMP:20260424T020511
CREATED:20241122T140623Z
LAST-MODIFIED:20241122T140711Z
UID:136683-1734192000-1734192000@www.herzog-magazin.de
SUMMARY:Kinderweihnachtsplansch mit Planchemalöör
DESCRIPTION:Eine bunte Mischung aus Weihnachtsliedern und Planschemalöör-Songs werden am Samstag\, 14. Dezember beim Kinder-Weihnachtsplansch im KuBa geboten! Ab 16 Uhr wird getanzt\, gesungen und natürlich geplanscht. Das Beste ist: Alle Erwachsenen dürfen auch dabei sein\, müssen aber hinten stehen\, denn bei diesem Konzert sind die Kinder an der Macht. Die Aufforderung lautet. „Also packt eure ganze Familie (und Kekse) ein und schwingt mit uns das Tanzbein.“ Wichtig: Kinder können nur in Begleitung von einem Erziehungsberechtigten kommen. \nEinlass ist um Einlass 15 Uhr. Tickets gibt für Kinder für 10€ / Erwachsene 15€\, jeweils zzgl. Gebühren unter https://ztix.de/hp/events/20405/info \n
URL:https://www.herzog-magazin.de/event/planchemaloeoer/
LOCATION:Kulturbahnhof (KuBa) Jülich\, Bahnhofsstraße 13\, Jülich\, NRW\, 52428\, Deutschland
GEO:50.91828;6.36768
X-APPLE-STRUCTURED-LOCATION;VALUE=URI;X-ADDRESS=Kulturbahnhof (KuBa) Jülich Bahnhofsstraße 13 Jülich NRW 52428 Deutschland;X-APPLE-RADIUS=500;X-TITLE=Bahnhofsstraße 13:geo:6.36768,50.91828
CATEGORIES:Musik,Musik & Konzerte
ATTACH;FMTTYPE=image/jpeg:https://www.herzog-magazin.de/wp-content/uploads/2024/11/2024_12_14Kinderplansch_web.jpg
ORGANIZER;CN="KuBa%20J%C3%BClich":MAILTO:info@kuba-juelich.de
END:VEVENT
END:VCALENDAR