    BEGIN:VCALENDAR
VERSION:2.0
PRODID:-//HERZOG Kultur- &amp; Stadtmagazin - ECPv4.9.2//NONSGML v1.0//EN
CALSCALE:GREGORIAN
METHOD:PUBLISH
X-WR-CALNAME:HERZOG Kultur- &amp; Stadtmagazin
X-ORIGINAL-URL:https://www.herzog-magazin.de
X-WR-CALDESC:Veranstaltungen im HERZOG Kultur- &amp; Stadtmagazin
BEGIN:VEVENT
DTSTART;TZID=Europe/Berlin:20230426T190000
DTEND;TZID=Europe/Berlin:20230426T190000
DTSTAMP:20260420T214051
CREATED:20230331T121430Z
LAST-MODIFIED:20230331T121430Z
UID:103923-1682535600-1682535600@www.herzog-magazin.de
SUMMARY:Podiumsdiskussion: „Frauen in die Politik“
DESCRIPTION:Im Rahmen des „Aktionsprogramms Kommune – Frauen in die Politik“ lädt die Region Jülich\, Linnich und Titz am Mittwoch\, 26. April\, um 19 Uhr zur Podiumsdiskussion in den Kulturbahnhof Jülich ein. Der Eintritt ist frei. Es ist keine Voranmeldung nötig. \nObwohl Frauen seit über 100 Jahren politisch mitwirken dürfen\, sind sie insbesondere in der Kommunalpolitik nach wie vor deutlich unterrepräsentiert. Die Gründe dafür sind vielfältig\, oft jedoch strukturell bedingt. Durch die Teilnahme am Aktionsprogramm „Frauen in die Politik“ haben die Kommunen Jülich\, Linnich und Titz ein deutliches Zeichen gesetzt\, dass ein vermehrtes politisches Engagement von Frauen in der Region notwendig und erwünscht ist. Durch eine Vielzahl an Maßnahmen wurden Interessierte aus allen drei Kommunen über knapp anderthalb Jahre zu politischer Beteiligung motiviert\, miteinander vernetzt und durch erfahrene Mentorinnen und Mentoren begleitet.  \nDen Abschluss des Programms bildet nun eine prominent besetzte Podiumsdiskussion. Ministerin Ina Scharrenbach (CDU)\, Fraktionsvorsitzende Verena Schäffer (Grüne)\, Ministerin a.D. Yvonne Gebauer (FDP) und Regierungspräsidentin a.D. Gisela Walsken (SPD) werden an dem Abend von ihren Erfahrungen als Frau in der Politik berichten und in den moderierten Austausch darüber kommen\, ob es auch heute noch Widerstände oder Hindernisse für politisch interessierte Frauen gibt oder ob längst alles gleichberechtigt ist. \n
URL:https://www.herzog-magazin.de/event/podiumsdiskussion-frauen-in-die-politik/
LOCATION:Kulturbahnhof (KuBa) Jülich\, Bahnhofsstraße 13\, Jülich\, NRW\, 52428\, Deutschland
GEO:50.91828;6.36768
X-APPLE-STRUCTURED-LOCATION;VALUE=URI;X-ADDRESS=Kulturbahnhof (KuBa) Jülich Bahnhofsstraße 13 Jülich NRW 52428 Deutschland;X-APPLE-RADIUS=500;X-TITLE=Bahnhofsstraße 13:geo:6.36768,50.91828
CATEGORIES:Chancengleichheit,Politik,Show / Unterhaltung / Talk
ATTACH;FMTTYPE=image/jpeg:https://www.herzog-magazin.de/wp-content/uploads/2023/03/Aktionsprogramm-Kommune-Frauen-in-die-Politik.jpg
ORGANIZER;CN="Stadt%20J%C3%BClich":MAILTO:info@juelich.de
END:VEVENT
END:VCALENDAR