    BEGIN:VCALENDAR
VERSION:2.0
PRODID:-//HERZOG Kultur- &amp; Stadtmagazin - ECPv4.9.2//NONSGML v1.0//EN
CALSCALE:GREGORIAN
METHOD:PUBLISH
X-WR-CALNAME:HERZOG Kultur- &amp; Stadtmagazin
X-ORIGINAL-URL:https://www.herzog-magazin.de
X-WR-CALDESC:Veranstaltungen im HERZOG Kultur- &amp; Stadtmagazin
BEGIN:VEVENT
DTSTART;TZID=Europe/Berlin:20190618T190000
DTEND;TZID=Europe/Berlin:20190618T000000
DTSTAMP:20260421T071705
CREATED:20190604T131827Z
LAST-MODIFIED:20190604T131827Z
UID:25481-1560884400-1560816000@www.herzog-magazin.de
SUMMARY:Poetry Slam
DESCRIPTION:Premiere am Mädchengymnasium Jülich: Erstmalig führt der Literaturkurs der Jahrgangsstufe Q1 kein Theaterstück auf\, sondern lädt zu einem Poetry Slam ein. Bei diesem „Wettstreit der Worte“  werden die 16 Schülerinnen des Kurses mit kurzen\, selbstgeschriebenen Texten um die Gunst des Publikums buhlen.  \nAbgerundet wird der Abend durch allerlei literarische Bühnenkunst\, wie kleineren Sketchen oder Texten zu Musik.   \nGeleitet wird der Literaturkurs in diesem Jahr vom Lehramtsreferendar Florian Schreiber\, der selbst seit vier Jahren als Poetry Slammer auftritt und zuletzt 2018 die Stadt Köln bei den deutschsprachigen Meisterschaften in Zürich vertreten durfte. \nDer Poetry Slam findet im PZ des Mädchengymnasiums Jülich (Dr.-Weyer-Str. 5) statt. Beginn der Veranstaltung ist 19 Uhr\, Einlass ist ab 18:30 Uhr. Der Eintritt ist frei; es wird jedoch um eine Spende gebeten. Der Erlös geht auch in diesem Jahr wieder an die Theatergruppe der Stephanus-Schule in Selgersdorf. \n
URL:https://www.herzog-magazin.de/event/poetry-slam-2/
LOCATION:Mädchengymnasium Jülich MGJ\, Dr. Weyer Straße\, Jülich\, NRW\, 52428\, Deutschland
CATEGORIES:Literatur
ATTACH;FMTTYPE=image/jpeg:https://www.herzog-magazin.de/wp-content/uploads/2019/06/poetry.jpg
ORGANIZER;CN="M%C3%A4dchengymnasium%20J%C3%BClich":MAILTO:sekretariat@mgj-online.de
END:VEVENT
END:VCALENDAR