    BEGIN:VCALENDAR
VERSION:2.0
PRODID:-//HERZOG Kultur- &amp; Stadtmagazin - ECPv4.9.2//NONSGML v1.0//EN
CALSCALE:GREGORIAN
METHOD:PUBLISH
X-WR-CALNAME:HERZOG Kultur- &amp; Stadtmagazin
X-ORIGINAL-URL:https://www.herzog-magazin.de
X-WR-CALDESC:Veranstaltungen im HERZOG Kultur- &amp; Stadtmagazin
BEGIN:VEVENT
DTSTART;TZID=Europe/Berlin:20191130T170000
DTEND;TZID=Europe/Berlin:20191130T170000
DTSTAMP:20260421T025934
CREATED:20191106T141652Z
LAST-MODIFIED:20191106T141652Z
UID:30801-1575133200-1575133200@www.herzog-magazin.de
SUMMARY:Proklamation des 60. Kinderdreigestirns
DESCRIPTION:Der Festausschuss Jülicher Kengerzoch lädt herzlich zur Proklamation der 60. Jülicher Kinderdreigestirn ein. In einem kleinen Festakt wird das Jülicher Kinderdreigestirn für die Session 2019/20 am Samstag\, 30. November\, um 17:00 Uhr in der Bürgerhalle Broich\, Broichstraße 5\, proklamiert. \n
URL:https://www.herzog-magazin.de/event/proklamation-des-60-kinderdreigestirns/
LOCATION:Bürgerhalle Broich\, Broichstraße 5\, Broich\, NRW\, 52428\, Deutschland
GEO:50.9485968;6.3341807
X-APPLE-STRUCTURED-LOCATION;VALUE=URI;X-ADDRESS=Bürgerhalle Broich Broichstraße 5 Broich NRW 52428 Deutschland;X-APPLE-RADIUS=500;X-TITLE=Broichstraße 5:geo:6.3341807,50.9485968
CATEGORIES:Brauchtum
ATTACH;FMTTYPE=image/jpeg:https://www.herzog-magazin.de/wp-content/uploads/2015/01/HZG38Verein.jpg
ORGANIZER;CN="Festausschuss%20J%C3%BClicher%20Kengerzoch":MAILTO:mikedransfeld.fajkz@gmail.com
END:VEVENT
END:VCALENDAR