    BEGIN:VCALENDAR
VERSION:2.0
PRODID:-//HERZOG Kultur- &amp; Stadtmagazin - ECPv4.9.2//NONSGML v1.0//EN
CALSCALE:GREGORIAN
METHOD:PUBLISH
X-WR-CALNAME:HERZOG Kultur- &amp; Stadtmagazin
X-ORIGINAL-URL:https://www.herzog-magazin.de
X-WR-CALDESC:Veranstaltungen im HERZOG Kultur- &amp; Stadtmagazin
BEGIN:VEVENT
DTSTART;TZID=Europe/Berlin:20221209T190000
DTEND;TZID=Europe/Berlin:20221209T190000
DTSTAMP:20260419T231248
CREATED:20221115T144003Z
LAST-MODIFIED:20221115T145436Z
UID:93686-1670612400-1670612400@www.herzog-magazin.de
SUMMARY:Propsteikirche: Adventsmusik aus Kiew
DESCRIPTION:Der Sophia Chamber Choir Kiew gibt am Freitag\, 9. Dezember\, um 19 Uhr in der Propsteikirche Maria Himmelfahrt ein Adventskonzert. Auf dem Programm stehen traditionelle Weihnachtslieder insbesondere aus der Ukraine von Swjatoslaw Lunjow\, Kyrylo Stezenko sowie Mykola Leontowytsch\, aber auch von Francis Poulenc\, Josef Gabriel Rheinberger und Arvo Pärt. \nDer Eintritt ist frei. Um eine Spende wird gebeten. \n
URL:https://www.herzog-magazin.de/event/propsteikirche-adventsmusik-aus-kiew/
LOCATION:Propsteipfarrkirche St.Mariä Himmelfahrt\, Stiftsherrenstraße 15\, Jülich\, NRW\, 52428\, Deutschland
GEO:50.9214998;6.3593009
X-APPLE-STRUCTURED-LOCATION;VALUE=URI;X-ADDRESS=Propsteipfarrkirche St.Mariä Himmelfahrt Stiftsherrenstraße 15 Jülich NRW 52428 Deutschland;X-APPLE-RADIUS=500;X-TITLE=Stiftsherrenstraße 15:geo:6.3593009,50.9214998
CATEGORIES:Musik,Musik & Konzerte
ATTACH;FMTTYPE=image/jpeg:https://www.herzog-magazin.de/wp-content/uploads/2022/11/Sophia-Chamber-Choir-Kiew-Foto-Veranstalter.jpg
ORGANIZER;CN="Kath.%20Pfarrei%20Heilig%20Geist%20J%C3%BClich":MAILTO:pfarramt@heilig-geist-juelich.de
END:VEVENT
END:VCALENDAR