    BEGIN:VCALENDAR
VERSION:2.0
PRODID:-//HERZOG Kultur- &amp; Stadtmagazin - ECPv4.9.2//NONSGML v1.0//EN
CALSCALE:GREGORIAN
METHOD:PUBLISH
X-WR-CALNAME:HERZOG Kultur- &amp; Stadtmagazin
X-ORIGINAL-URL:https://www.herzog-magazin.de
X-WR-CALDESC:Veranstaltungen im HERZOG Kultur- &amp; Stadtmagazin
BEGIN:VEVENT
DTSTART;TZID=Europe/Berlin:20211212T190000
DTEND;TZID=Europe/Berlin:20211212T190000
DTSTAMP:20260419T155705
CREATED:20211128T133819Z
LAST-MODIFIED:20211128T133819Z
UID:71809-1639335600-1639335600@www.herzog-magazin.de
SUMMARY:Propsteikirche: Candle Lightning
DESCRIPTION:Worldwide candle lightning: Jedes Jahr sterben allein in Deutschland 20.000 Kinder und junge Erwachsene\, weltweit sind es um ein Vielfaches mehr. Überall bleiben trauernde Eltern\, Geschwis- ter\, Großeltern\, Freundinnen und Freunde zurück. Das Team des „Neuen Sonntagabend“ lädt auch in diesem Jahr herzlich zur Gedenkstunde am Sonntag\, 12. Dezember\, um 19 Uhr in der Propsteikirche Jülich ein. \nAm Weltgedenktag für verstorbene Kinder geht ein Licht um die Welt: Jedes Jahr am 2. Sonntag im Dezember stellen seit vielen Jahren Betroffene rund um die ganze Welt um 19 Uhr brennende Kerzen in ihre Fenster. Während die Kerzen in der einen Zeitzone erlöschen\, werden sie in der nächsten entzündet\, so dass eine Lichterwelle für 24 Stunden die ganze Welt umringt. Jedes Licht im Fenster steht für das Wissen\, dass diese Kinder das Leben erhellt haben und dass sie nie vergessen werden. \nDas Licht steht auch für die Hoffnung\, dass die Trauer das Leben der Angehörigen nicht für immer dunkel bleiben lässt. Es schlägt Brücken von einem betroffenen Menschen zum anderen\, von einer trauernden Familie zur anderen rund um die Welt.  \n
URL:https://www.herzog-magazin.de/event/propsteikirche-candle-lightning/
LOCATION:Propsteipfarrkirche St.Mariä Himmelfahrt\, Stiftsherrenstraße 15\, Jülich\, NRW\, 52428\, Deutschland
GEO:50.9214998;6.3593009
X-APPLE-STRUCTURED-LOCATION;VALUE=URI;X-ADDRESS=Propsteipfarrkirche St.Mariä Himmelfahrt Stiftsherrenstraße 15 Jülich NRW 52428 Deutschland;X-APPLE-RADIUS=500;X-TITLE=Stiftsherrenstraße 15:geo:6.3593009,50.9214998
CATEGORIES:Sonstiges
ATTACH;FMTTYPE=image/jpeg:https://www.herzog-magazin.de/wp-content/uploads/2021/11/Kerze_congerdesign.jpg
ORGANIZER;CN="Kath.%20Pfarrei%20Heilig%20Geist%20J%C3%BClich":MAILTO:pfarramt@heilig-geist-juelich.de
END:VEVENT
END:VCALENDAR