    BEGIN:VCALENDAR
VERSION:2.0
PRODID:-//HERZOG Kultur- &amp; Stadtmagazin - ECPv4.9.2//NONSGML v1.0//EN
CALSCALE:GREGORIAN
METHOD:PUBLISH
X-WR-CALNAME:HERZOG Kultur- &amp; Stadtmagazin
X-ORIGINAL-URL:https://www.herzog-magazin.de
X-WR-CALDESC:Veranstaltungen im HERZOG Kultur- &amp; Stadtmagazin
BEGIN:VEVENT
DTSTART;TZID=Europe/Berlin:20221124T180000
DTEND;TZID=Europe/Berlin:20221124T180000
DTSTAMP:20260423T100520
CREATED:20221115T102758Z
LAST-MODIFIED:20221115T103618Z
UID:93585-1669312800-1669312800@www.herzog-magazin.de
SUMMARY:Quartierszentrum Heckfeld: Runder Tisch
DESCRIPTION:Die Stadt Jülich lädt die Bewohnerinnen und Bewohner des Heckfeldes am Donnerstag\, 24. November\, um 18 Uhr zum Runden Tisch in das Quartierszentrum Jülich-Heckfeld\, An der Lünette 7\, ein. Der Runde Tisch ist ein Angebot des Quartiersmanagements der Stadt Jülich und wurde gegründet\, um gemeinsam mit Bewohnerinnen und Bewohnern des Heckfeldes Ideen und Angebote für eine lebendige Nachbarschaft zu entwickeln.  \nBeim letzten Termin am 22. September wurden bereits viele spannende Projektideen wie Ausflüge in die Umgebung und Begleitdienste für Seniorinnen und Senioren\, Nachhilfe für Kinder und Jugendliche oder auch Spieleabende und Feste für alle Generationen gesammelt. Diese und weitere Ideen werden beim nächsten Termin genauer besprochen. Herzlich eingeladen sind auch Personen\, die sich gerne ehrenamtlich engagieren möchten und nach einem passenden Projekt suchen.  \nInformationen zur Quartiersarbeit der Stadt Jülich sind im Fachbereich für Quartiersmanagement und Mehrgenerationen der Stadt Jülich unter der Tel. 02461 / 63-211 oder per E-Mail an SHaxha@juelich.de zu erhalten.  \n
URL:https://www.herzog-magazin.de/event/quartierszentrum-heckfeld-runder-tisch/
LOCATION:Quartier Heckfeld\, Rochusheim\, An der Lünette 7\, Jülich\, 52428\, Deutschland
CATEGORIES:Informationsveranstaltung,Workshop
ATTACH;FMTTYPE=image/jpeg:https://www.herzog-magazin.de/wp-content/uploads/2022/11/Quartierszentrum-Heckfeld-Netz.jpg
ORGANIZER;CN="Stadt%20J%C3%BClich":MAILTO:info@juelich.de
END:VEVENT
END:VCALENDAR