    BEGIN:VCALENDAR
VERSION:2.0
PRODID:-//HERZOG Kultur- &amp; Stadtmagazin - ECPv4.9.2//NONSGML v1.0//EN
CALSCALE:GREGORIAN
METHOD:PUBLISH
X-WR-CALNAME:HERZOG Kultur- &amp; Stadtmagazin
X-ORIGINAL-URL:https://www.herzog-magazin.de
X-WR-CALDESC:Veranstaltungen im HERZOG Kultur- &amp; Stadtmagazin
BEGIN:VEVENT
DTSTART;TZID=Europe/Berlin:20220407T190000
DTEND;TZID=Europe/Berlin:20220407T190000
DTSTAMP:20260423T114413
CREATED:20220405T094943Z
LAST-MODIFIED:20220405T094951Z
UID:77083-1649358000-1649358000@www.herzog-magazin.de
SUMMARY:Ratssitzung der Stadt Jülich
DESCRIPTION:Der Rat der Stadt Jülich kommt am Donnerstag\, 7. April\, zu einer Sitzung zusammen. Dazu tagt der Stadtrat ab 19 Uhr in der Kulturmuschel im Stadtgarten des Brückenkopf-Parks.  \nAuf der Tagesordnung stehen die Bereitstellung von Mitteln\, um einen neuen Jugendcontainer in Koslar\, zwei Container für die Promenadenschule und einen für die Katholische Grundschule aufzustellen\, sowie das Entwicklungspolitische Handlungskonzept. Zudem werden Berichte zum Gleichstellungsplan der Stadtverwaltung Jülich und der Stadtentwicklungsgesellschaft mbH &. C. KG Jülich für das Jahr 2021 sowie die Jahresabschlüsse der Brückenkopf-Park Jülich gGmbH und der Brainergy Park Jülich GmbH für das Jahr 2020 vorgestellt.  \n
URL:https://www.herzog-magazin.de/event/ratssitzung-der-stadt-juelich/
LOCATION:Kulturmuschel im Brückenkopf-Park\, Brückenkopf-Park Jülich\, Jülich\, NRW\, 52428\, Deutschland
CATEGORIES:Ausschuss,Politik
ATTACH;FMTTYPE=image/jpeg:https://www.herzog-magazin.de/wp-content/uploads/2022/04/Muschel-olaf-Kiel-D_YUN_0006.jpg
ORGANIZER;CN="Stadt%20J%C3%BClich":MAILTO:info@juelich.de
END:VEVENT
END:VCALENDAR