    BEGIN:VCALENDAR
VERSION:2.0
PRODID:-//HERZOG Kultur- &amp; Stadtmagazin - ECPv4.9.2//NONSGML v1.0//EN
CALSCALE:GREGORIAN
METHOD:PUBLISH
X-WR-CALNAME:HERZOG Kultur- &amp; Stadtmagazin
X-ORIGINAL-URL:https://www.herzog-magazin.de
X-WR-CALDESC:Veranstaltungen im HERZOG Kultur- &amp; Stadtmagazin
BEGIN:VEVENT
DTSTART;TZID=Europe/Berlin:20230421T180000
DTEND;TZID=Europe/Berlin:20230421T200000
DTSTAMP:20260421T003239
CREATED:20230406T150934Z
LAST-MODIFIED:20230406T150934Z
UID:104190-1682100000-1682107200@www.herzog-magazin.de
SUMMARY:Ren Rong in der Galerie an der Zitadelle
DESCRIPTION:Die Eröffnung der Ausstellung „Mit Ren Rong in den Frühling“ findet am Freitag\, 21. April\, von 18 bis 20 Uhr in der Galerie an der Zitadelle in Jülich\, Düsseldorfer Straße 12\, statt. Die Jülicher Kunstfreunde erinnern sich vielleicht noch an die großartige Ausstellung 2017 im Renaissancegarten der Zitadelle mit fast drei Meter großen Stelen von Ren Rong. Im April wird Ren Rong wieder in Jülich zu Gast sein. Passend zur Frühlingszeit werden seine unverkennbaren Papierschnitte und Skulpturen gezeigt werden\, die den Aufbruch der Natur sowie Lebensfreude und Energie widerspiegeln.  \nRen Rong wurde 1960 in Nanjing / China geboren. 1986 kam er nach Deutschland und studierte von 1989 bis 1992 an den Kunsthochschulen Münster und Düsseldorf (Meisterschüler von Prof. Fritz Schwegler). Mit seinen Pflanzenmenschen als Papierschnitt\, aus Stahl\, Holz oder Wachs wurde er international erfolgreich. Seine Werke wurden in zahlreichen Museen und Galerien im In- und Ausland gezeigt. Ren Rong lebt und arbeitet in Bonn und Bejing / China.  \n
URL:https://www.herzog-magazin.de/event/ren-rong-in-der-galerie-an-der-zitadelle/
LOCATION:Galerie Loven\, Düsseldorfer Straße 12\, Jülich\, NRW\, 52428\, Deutschland
GEO:50.9231959;6.3575533
X-APPLE-STRUCTURED-LOCATION;VALUE=URI;X-ADDRESS=Galerie Loven Düsseldorfer Straße 12 Jülich NRW 52428 Deutschland;X-APPLE-RADIUS=500;X-TITLE=Düsseldorfer Straße 12:geo:6.3575533,50.9231959
CATEGORIES:Ausstellung,Kunst & Design
ATTACH;FMTTYPE=image/jpeg:https://www.herzog-magazin.de/wp-content/uploads/2023/04/Ren-Rong-Galerie-an-der-Zitadelle.jpg
ORGANIZER;CN="Galerie%20an%20der%20Zitadelle":MAILTO:info@galerie-an-der-zitadelle.de
END:VEVENT
END:VCALENDAR