    BEGIN:VCALENDAR
VERSION:2.0
PRODID:-//HERZOG Kultur- &amp; Stadtmagazin - ECPv4.9.2//NONSGML v1.0//EN
CALSCALE:GREGORIAN
METHOD:PUBLISH
X-WR-CALNAME:HERZOG Kultur- &amp; Stadtmagazin
X-ORIGINAL-URL:https://www.herzog-magazin.de
X-WR-CALDESC:Veranstaltungen im HERZOG Kultur- &amp; Stadtmagazin
BEGIN:VEVENT
DTSTART;TZID=Europe/Berlin:20190923T180000
DTEND;TZID=Europe/Berlin:20190923T180000
DTSTAMP:20260423T214619
CREATED:20190919T094816Z
LAST-MODIFIED:20190919T094816Z
UID:29313-1569261600-1569261600@www.herzog-magazin.de
SUMMARY:Runder Tisch im Stadtteilzentrum
DESCRIPTION:Der 3. Runder Tisch im Stadtteilzentrum Jülich-Nordviertel\, Nordstraße 39\, findet am Montag\, 23. September\, um 18 Uhr statt. Die städtische Quartiersentwicklerin Sevdije Haxha und Ortsvorsteher Peter Schmitz übernehmen dabei die Moderation. Zum Thema Wohnumfeldverbesserung wird der Projektstand „Boule-Bahn“ besprochen. Zudem wird zum Thema „Bienen- / Wildblumenwiese“ ein gemeinsamer Besuch des Wildblumen-Vorgartens der Familie Schiffer unternommen.\nEnde \nDer nächster Runde Tisch findet am Montag\, 25. November\, um 18:00 Uhr statt. \n
URL:https://www.herzog-magazin.de/event/runder-tisch-im-stadtteilzentrum/
LOCATION:Stadtteilzentrum Nordviertel\, Nordstraße 39\, Jülich\, NRW\, 52428\, Deutschland
CATEGORIES:für Familien,Informationsveranstaltung,Senioren
ATTACH;FMTTYPE=image/jpeg:https://www.herzog-magazin.de/wp-content/uploads/2018/01/Angebote-Stadtteilzentrum-Februar-2018_-HERZOG.jpg
END:VEVENT
END:VCALENDAR