    BEGIN:VCALENDAR
VERSION:2.0
PRODID:-//HERZOG Kultur- &amp; Stadtmagazin - ECPv4.9.2//NONSGML v1.0//EN
CALSCALE:GREGORIAN
METHOD:PUBLISH
X-WR-CALNAME:HERZOG Kultur- &amp; Stadtmagazin
X-ORIGINAL-URL:https://www.herzog-magazin.de
X-WR-CALDESC:Veranstaltungen im HERZOG Kultur- &amp; Stadtmagazin
BEGIN:VEVENT
DTSTART;TZID=Europe/Berlin:20230520T140000
DTEND;TZID=Europe/Berlin:20230520T160000
DTSTAMP:20260422T101228
CREATED:20230511T164029Z
LAST-MODIFIED:20230511T164029Z
UID:106341-1684591200-1684598400@www.herzog-magazin.de
SUMMARY:Rundgang durch den Tagebau Inden
DESCRIPTION:Was kommt nach der Braunkohle? Im Tagebau Inden steht der Abschluss der Kohleförderung im Jahr 2029 kurz bevor. Ein Jahr später beginnt die Füllphase: Aus dem Baggerloch wird bis 2060 ein großer See.  \nDie Neugestaltung der Landschaft bringt für die Menschen im indeland tiefgreifende Veränderungen mit sich. Stephan Laven lebt in Inden / Altdorf und kennt die Herausforderungen\, vor denen die Städte und Gemeinden rund um den Tagebau heute stehen. Bei einem Rundgang am Samstag\, 20. Mai\, in Inden erläutert der heimatverbundene Elektrotechniker\, warum die Region den Wandel als Chance begreift und welche Perspektiven die zukünftige Seenlandschaft eröffnet. \nTreffpunkt ist um 14 Uhr vor dem Aussichtsturm Indemann in Inden. Die Teilnahme an dem zweistündigen Rundgang kostet 8 Euro für Erwachsene und 5\,50 Euro für Kinder ab sechs Jahren. Das Familien-Ticket für zwei Erwachsene und bis zu drei Kinder kostet nur 22 Euro.  \nInformationen und Anmeldung sind unter www.indeland-erleben.de/angebote möglich. \n
URL:https://www.herzog-magazin.de/event/rundgang-durch-den-tagebau-inden/
LOCATION:Indemann\, Goltsteinkuppe\, Inden-Altdorf\, NRW\, 52449\, Deutschland
GEO:50.849636;6.367146
X-APPLE-STRUCTURED-LOCATION;VALUE=URI;X-ADDRESS=Indemann Goltsteinkuppe Inden-Altdorf NRW 52449 Deutschland;X-APPLE-RADIUS=500;X-TITLE=Goltsteinkuppe:geo:6.367146,50.849636
CATEGORIES:Exkursion,Natur / Umwelt,Vortrag,Wirtschaft,Wissenschaft
ATTACH;FMTTYPE=image/jpeg:https://www.herzog-magazin.de/wp-content/uploads/2023/03/logo-indeland-tourimus-Netz.jpg
ORGANIZER;CN="indeland%20Tourismus%20e.V.":MAILTO:info@indeland-erleben.de
END:VEVENT
END:VCALENDAR