    BEGIN:VCALENDAR
VERSION:2.0
PRODID:-//HERZOG Kultur- &amp; Stadtmagazin - ECPv4.9.2//NONSGML v1.0//EN
CALSCALE:GREGORIAN
METHOD:PUBLISH
X-WR-CALNAME:HERZOG Kultur- &amp; Stadtmagazin
X-ORIGINAL-URL:https://www.herzog-magazin.de
X-WR-CALDESC:Veranstaltungen im HERZOG Kultur- &amp; Stadtmagazin
BEGIN:VEVENT
DTSTART;TZID=Europe/Berlin:20220507T090000
DTEND;TZID=Europe/Berlin:20220507T120000
DTSTAMP:20260421T061448
CREATED:20220415T133441Z
LAST-MODIFIED:20220415T133514Z
UID:77819-1651914000-1651924800@www.herzog-magazin.de
SUMMARY:Rurpiraten: 1. KiTa-Trödel
DESCRIPTION:Der Förderverein und die KiTa Rurpiraten\, Jan-von-Werth-Straße 77\, veranstalten am Samstag\, 7. Mai\, gemeinsam ihren 1. KiTa-Trödel. Angeboten werden von 9 bis 12 Uhr Baby- und Kinderkleidung sowie sonstige Ausstattungsartikel. Zudem gibt es von 9 bis 11 Uhr Kinderschminken. Für die kleinen und großen Rurpiraten gibt es zudem eine Cafeteria mit Kaffee und Kuchen. \nAnmeldungen werden unter der E-Mail rurpiraten.jue@kita-kreis-dueren.de entgegengenommen. Hier sind auch Infos erhältlich.  \nWeitere Information für Verkäufer und Interessierte sind mit Hilfe des QR-Code und unter https://free.qr1.at/e63w7s. zu finden. \n
URL:https://www.herzog-magazin.de/event/rurpiraten-1-kita-troedel/
LOCATION:KiTa Rurpiraten\, Jan-von-Werth-Straße 77\, Jülich\, NRW\, 52428\, Deutschland
CATEGORIES:Festival & Markt,für Familien
ATTACH;FMTTYPE=image/jpeg:https://www.herzog-magazin.de/wp-content/uploads/2022/04/1.-Kindertrödel-der-KiTa-Rurpiraten.jpg
ORGANIZER;CN="KiTa%20Rurpiraten":MAILTO:rurpiraten.jue@kita-kreis-dueren.de
END:VEVENT
END:VCALENDAR