    BEGIN:VCALENDAR
VERSION:2.0
PRODID:-//HERZOG Kultur- &amp; Stadtmagazin - ECPv4.9.2//NONSGML v1.0//EN
CALSCALE:GREGORIAN
METHOD:PUBLISH
X-WR-CALNAME:HERZOG Kultur- &amp; Stadtmagazin
X-ORIGINAL-URL:https://www.herzog-magazin.de
X-WR-CALDESC:Veranstaltungen im HERZOG Kultur- &amp; Stadtmagazin
BEGIN:VEVENT
DTSTART;TZID=Europe/Berlin:20190925T190000
DTEND;TZID=Europe/Berlin:20190925T190000
DTSTAMP:20260423T041033
CREATED:20190910T120545Z
LAST-MODIFIED:20190910T121016Z
UID:28764-1569438000-1569438000@www.herzog-magazin.de
SUMMARY:SAMT-Tierfreunde-Stammtisch
DESCRIPTION:
URL:https://www.herzog-magazin.de/event/samt-stammtisch-im-september/
LOCATION:Gaststätte „Zum Maiblömche“\, Andreasstraße 2\, Lich-Steinstraß\, NRW\, 52428\, Deutschland
CATEGORIES:Versammlungen
ATTACH;FMTTYPE=image/jpeg:https://www.herzog-magazin.de/wp-content/uploads/2018/02/SAMT-e-V-Juelich-Soziale-Arbeit-fuer-Mensch-und-Tier-Logo.jpg
ORGANIZER;CN="SAMT%20J%C3%BClich":MAILTO:irene.launer-hill(at)gmx.de
END:VEVENT
END:VCALENDAR