    BEGIN:VCALENDAR
VERSION:2.0
PRODID:-//HERZOG Kultur- &amp; Stadtmagazin - ECPv4.9.2//NONSGML v1.0//EN
CALSCALE:GREGORIAN
METHOD:PUBLISH
X-WR-CALNAME:HERZOG Kultur- &amp; Stadtmagazin
X-ORIGINAL-URL:https://www.herzog-magazin.de
X-WR-CALDESC:Veranstaltungen im HERZOG Kultur- &amp; Stadtmagazin
BEGIN:VEVENT
DTSTART;TZID=Europe/Berlin:20191016T190000
DTEND;TZID=Europe/Berlin:20191016T190000
DTSTAMP:20260425T040243
CREATED:20191013T132646Z
LAST-MODIFIED:20191013T132646Z
UID:30069-1571252400-1571252400@www.herzog-magazin.de
SUMMARY:SAMT-Tierfreunde-Stammtisch
DESCRIPTION:Der nächste Stammtisch der SAMT-Tierfreunde findet am Mittwoch\, 16. Oktober\, im Restaurant „Zum Maiblömche“\, Lich Steinstraß\, Andreasstraße 2\, statt. Beginn ist um 19:00 Uhr. \n
URL:https://www.herzog-magazin.de/event/samt-tierfreunde-stammtisch-2/
LOCATION:Gaststätte „Zum Maiblömche“\, Andreasstraße 2\, Lich-Steinstraß\, NRW\, 52428\, Deutschland
CATEGORIES:Versammlungen
ATTACH;FMTTYPE=image/jpeg:https://www.herzog-magazin.de/wp-content/uploads/2018/02/SAMT-e-V-Juelich-Soziale-Arbeit-fuer-Mensch-und-Tier-Logo.jpg
ORGANIZER;CN="SAMT%20J%C3%BClich":MAILTO:irene.launer-hill(at)gmx.de
END:VEVENT
END:VCALENDAR