    BEGIN:VCALENDAR
VERSION:2.0
PRODID:-//HERZOG Kultur- &amp; Stadtmagazin - ECPv4.9.2//NONSGML v1.0//EN
CALSCALE:GREGORIAN
METHOD:PUBLISH
X-WR-CALNAME:HERZOG Kultur- &amp; Stadtmagazin
X-ORIGINAL-URL:https://www.herzog-magazin.de
X-WR-CALDESC:Veranstaltungen im HERZOG Kultur- &amp; Stadtmagazin
BEGIN:VEVENT
DTSTART;TZID=Europe/Berlin:20191103T110000
DTEND;TZID=Europe/Berlin:20191103T110000
DTSTAMP:20260424T063657
CREATED:20191101T125306Z
LAST-MODIFIED:20191101T125306Z
UID:30593-1572778800-1572778800@www.herzog-magazin.de
SUMMARY:Schloss Burgau: Bach-Konzert für Kinder
DESCRIPTION:Cappella Villa Duria lädt ein zum Andantino Familienkonzert „Post für Meister Bach“\, einem Konzert für Kinder von 3 bis 10 Jahren. Das vor zwei Jahren von den Zuschauern gefeierte Andantino-Konzert „Post für Meister Bach“ kehrt nun wieder zurück auf die Bühne auf Schloss Burgau. Andantino und die beiden Musikvermittler Anja Leu (Trompete) und David Schlünkes (Gitarre) bekommen ganz ungewöhnlichen Besuch\, denn plötzlich steht ein wundersamer Mann vor ihrer Tür\, der behauptet\, Johann Sebastian Bach zu sein.  \nWie konnte das passieren? Und dort sieht für Meister Bach alles so anders aus! Irgendwie nicht aus seiner Zeit! Warum tragen die alle keine Perücken auf dem Kopf? Und warum bewegen sich die Bilder an der Wand? Fragen über Fragen und die passenden Antworten finden\, ist gar nicht so einfach… Vielleicht können ihm die kleinen und großen Entdeckerreisenden in den Familienkonzerten dabei helfen\, die Rätsel zu lösen? Und natürlich dürfen die Kinder von 3 bis 10 Jahren wieder viel mitsingen\, tanzen und musizieren. Für die Rolle des Johann Sebastian Bach konnte das Andantino Team den jungen aufstrebenden Musiker Georg Razumovskij am Klavier gewinnen\, der in den letzten Jahren bereits in mehreren Konzerten von Andantino zu Gast war und das Publikum immer wieder begeisterte. \nUm möglichst viele Kinder zu erreichen\, bietet das Andantino-Team zwei Familienkonzerte am Sonntag\, 3. November\, um 11:00 Uhr und 15:00 Uhr auf Schloss Burgau an. Karten zum Preis von 5 Euro für Kinder und 10 Euro für Erwachsene sind für alle Familienkonzerte im iPunkt am Markt in Düren Tel. 02421 / 252525 erhältlich. Die Restkarten gibt es an der Tageskasse auf Schloss Burgau. Das Konzert findet in Kooperation mit dem Konzertforum Cappella Villa Duria und Düren Kultur statt. \n
URL:https://www.herzog-magazin.de/event/schloss-burgau-bach-konzert-fuer-kinder/
LOCATION:Schloss Burgau\, Von-Aue-Straße 1\, Düren\, NRW\, 52355\, Deutschland
CATEGORIES:für Kinder,Musik,Musik & Konzerte
ATTACH;FMTTYPE=image/jpeg:https://www.herzog-magazin.de/wp-content/uploads/2019/11/Post-Bach-Burgau-Netz.jpg
END:VEVENT
END:VCALENDAR