    BEGIN:VCALENDAR
VERSION:2.0
PRODID:-//HERZOG Kultur- &amp; Stadtmagazin - ECPv4.9.2//NONSGML v1.0//EN
CALSCALE:GREGORIAN
METHOD:PUBLISH
X-WR-CALNAME:HERZOG Kultur- &amp; Stadtmagazin
X-ORIGINAL-URL:https://www.herzog-magazin.de
X-WR-CALDESC:Veranstaltungen im HERZOG Kultur- &amp; Stadtmagazin
BEGIN:VEVENT
DTSTART;TZID=Europe/Berlin:20221106T200000
DTEND;TZID=Europe/Berlin:20221106T200000
DTSTAMP:20260426T021731
CREATED:20221009T120804Z
LAST-MODIFIED:20221103T153131Z
UID:90127-1667764800-1667764800@www.herzog-magazin.de
SUMMARY:Lateinamerikanischer Klavierabend
DESCRIPTION:Mit dem kolumbianischen Pianisten Luis Castellanos Jimenez gehen die Jülicher Schlosskonzerte am Sonntag\, 6. November\, in die nächste Runde. Der Klavierabend in der Schlosskapelle verspricht ab 20 Uhr ein abwechslungsreiches Programm mit Werken von Frédéric Chopin in Gegenüberstellung zu Klavierkompositionen aus drei Ländern Lateinamerikas: Kolumbien\, Mexico und Argentinien.  \nDer kolumbianische Pianist  Luis Andres Castellanos Jimenez wurde in Bogotá (Kolumbien) geboren. Er studierte bis zum Alter von 18 Jahren am Staatskonservatorium in Kolumbien und setzte sein Studium nach seiner Übersiedlung nach Deutschland an der Hochschule für Musik und Tanz in Köln (Abteilung Aachen) bei Prof. Ilja Scheps fort. Sein Studium schloss er mit dem Diplom und dem Master ab\, beides mit Auszeichnung. Es folgte ein Studium der Orchesterleitung. Derzeit leitet Luis Castellanos diverse Vokalensembles in Deutschland und Belgien. \nBeim nationalen Chopin-Wettbewerb in Kolumbien gewann der noch junge Pianist den ersten Preis. Es folgte eine internationale Konzerttätigkeit als Solist. Als Kammermusiker tritt Castellanos häufig mit dem Duo Aken2 auf\, das er zusammen mit der Cellistin Soraya Ansari 2012 begründet hat. \nRestkarten ab 15 Euro online unter tickets@schlosskonzerte-juelich.de und an der Abendkasse (plus 2\,50 Euro). \nWeitere Informationen unter www.schlosskonzerte-juelich.de im Internet. \n
URL:https://www.herzog-magazin.de/event/schlosskonzerte-lateinamerikanischer-klavierabend/
LOCATION:Schlosskapelle der Zitadelle\, Schloßstraße\, Jülich\, NRW\, 52428\, Deutschland
CATEGORIES:Musik,Musik & Konzerte
ATTACH;FMTTYPE=image/jpeg:https://www.herzog-magazin.de/wp-content/uploads/2022/10/Luis-Castellanos-Jimenez-Foto-pianomobil.info_.jpg
ORGANIZER;CN="J%C3%BClicher%20Schlosskonzerte%20e.V.":MAILTO:dr.weitz@gmail.com
END:VEVENT
END:VCALENDAR