    BEGIN:VCALENDAR
VERSION:2.0
PRODID:-//HERZOG Kultur- &amp; Stadtmagazin - ECPv4.9.2//NONSGML v1.0//EN
CALSCALE:GREGORIAN
METHOD:PUBLISH
X-WR-CALNAME:HERZOG Kultur- &amp; Stadtmagazin
X-ORIGINAL-URL:https://www.herzog-magazin.de
X-WR-CALDESC:Veranstaltungen im HERZOG Kultur- &amp; Stadtmagazin
BEGIN:VEVENT
DTSTART;TZID=Europe/Berlin:20220522T200000
DTEND;TZID=Europe/Berlin:20220522T200000
DTSTAMP:20260422T214141
CREATED:20220411T132727Z
LAST-MODIFIED:20220411T132753Z
UID:77606-1653249600-1653249600@www.herzog-magazin.de
SUMMARY:Schlosskonzerte: tierisch Barock
DESCRIPTION:Das Kölner Barockensemble Nel Dolce kommt am Sonntag\, 22. Mai\, mit seinem neuen Programm „Tierisch Barock“ – ein frühlingshafter Streifzug durch die Tierwelt – zurück nach Jülich. Es sind Werke von Georg Friedrich Händel und mehreren anderen\, vorwiegend englischen\, Komponisten zu hören. \nIm Oktober 2018 debütierten die Musiker  mit einer sehr vielfältigen Interpretation barocker Kompositionen unter dem Motto „vom Dunkel ins Licht“. Das besondere Anliegen des Ensembles\, die Musik des 17. und 18. Jahrhunderts in der heutigen Zeit wieder lebendig werden zu lassen\, äußert sich sowohl in der Interpretation der Werke als auch in innovativen Aufführungskonzepten.\nHören Sie  \nDas Konzert wird nach 2 Jahren Pandemie erstmals wieder in der Schlosskapelle stattfinden. Beginn ist um 20 Uhr. \nRestkarten ab 15 Euro pro Person sind online unter tickets@schlosskonzerte-juelich.de oder telefonisch unter 02461 / 53360 (Dr. Rudolf Weitz) möglich sowie möglicherweise an der Abendkasse (plus 2\,50 Euro). \nWeitere Infos unter www.schlosskonzerte-juelich.de im Internet. \n
URL:https://www.herzog-magazin.de/event/schlosskonzerte-tierische-barock/
LOCATION:Schlosskapelle der Zitadelle\, Schloßstraße\, Jülich\, NRW\, 52428\, Deutschland
CATEGORIES:Musik,Musik & Konzerte
ATTACH;FMTTYPE=image/jpeg:https://www.herzog-magazin.de/wp-content/uploads/2022/04/Schlosskapelle.jpg
ORGANIZER;CN="J%C3%BClicher%20Schlosskonzerte%20e.V.":MAILTO:dr.weitz@gmail.com
END:VEVENT
END:VCALENDAR