    BEGIN:VCALENDAR
VERSION:2.0
PRODID:-//HERZOG Kultur- &amp; Stadtmagazin - ECPv4.9.2//NONSGML v1.0//EN
CALSCALE:GREGORIAN
METHOD:PUBLISH
X-WR-CALNAME:HERZOG Kultur- &amp; Stadtmagazin
X-ORIGINAL-URL:https://www.herzog-magazin.de
X-WR-CALDESC:Veranstaltungen im HERZOG Kultur- &amp; Stadtmagazin
BEGIN:VEVENT
DTSTART;TZID=Europe/Berlin:20230312T200000
DTEND;TZID=Europe/Berlin:20230312T200000
DTSTAMP:20260425T020840
CREATED:20230204T130742Z
LAST-MODIFIED:20230204T130742Z
UID:98479-1678651200-1678651200@www.herzog-magazin.de
SUMMARY:Schlosskonzerte: „Trio con Brio Copenhagen“
DESCRIPTION:Auf ihrer März-Tournée von Kopenhagen über Eckernförde\, Nienburg / Weser nach Bühl (Schwarzwald) und zurück kommt das „Trio con Brio Copenhagen“ nicht ganz zufällig in Jülich vorbei und bringt drei Klaviertrios am Sonntag\, 12. März\, um 20 Uhr bei den Jülicher Schlosskonzerten in der Schlosskapelle zur Aufführung – von Beethoven\, Prokofjew und Schubert.  \nDas 1999 an der Wiener Musikhochschule gegründete Klaviertrio besteht aus den zwei koreanischen Schwestern Soo-Jin und Soo-Kyung Hong und dem Dänen Jens Elvekjaer. Es gehört zu einem der führenden Ensembles der heutigen Zeit. Das homogene Zusammenspiel aus Violine\, Violoncello und Klavier sowie die musikalische Perfektion machen das Trio zu einem wahren Schatz in der der heutigen Musikszene. \nLassen Sie sich entführen von den zauberhaften Klängen seiner Musik im historischen Ambiente der Zitadelle Jülich! \nWenige Restkarten zu 15 Euro sind im online-Vorverkauf unter tickets@schlosskonzerte-juelich.de oder zu 17\,50 Euro an der Abendkasse erhältlich. Alle aktuellen Infos gibt es auf www.schlosskonzerte-juelich.de im Internet. \n
URL:https://www.herzog-magazin.de/event/schlosskonzerte-trio-con-brio-copenhagen/
LOCATION:Schlosskapelle der Zitadelle\, Schloßstraße\, Jülich\, NRW\, 52428\, Deutschland
CATEGORIES:Musik,Musik & Konzerte
ATTACH;FMTTYPE=image/jpeg:https://www.herzog-magazin.de/wp-content/uploads/2023/02/Trio-con-Brio-2020-by-Nikolaj-Lund.jpg
ORGANIZER;CN="J%C3%BClicher%20Schlosskonzerte%20e.V.":MAILTO:dr.weitz@gmail.com
END:VEVENT
END:VCALENDAR