    BEGIN:VCALENDAR
VERSION:2.0
PRODID:-//HERZOG Kultur- &amp; Stadtmagazin - ECPv4.9.2//NONSGML v1.0//EN
CALSCALE:GREGORIAN
METHOD:PUBLISH
X-WR-CALNAME:HERZOG Kultur- &amp; Stadtmagazin
X-ORIGINAL-URL:https://www.herzog-magazin.de
X-WR-CALDESC:Veranstaltungen im HERZOG Kultur- &amp; Stadtmagazin
BEGIN:VEVENT
DTSTART;TZID=Europe/Berlin:20231024T173000
DTEND;TZID=Europe/Berlin:20231024T190000
DTSTAMP:20260420T130656
CREATED:20231005T102825Z
LAST-MODIFIED:20231005T102825Z
UID:115647-1698168600-1698174000@www.herzog-magazin.de
SUMMARY:Schöpfungsmythen aus aller Welt
DESCRIPTION:Im Rahmen der Reihe „Bibel im Gespräch“ referiert Pfarrerin Elke Wenzel am Dienstag\, 24. Oktober\, im Dietrich-Bonhoeffer-Haus Jülich\, Düsseldorfer Straße 30. Unter dem Motto „Am Anfang schuf Gott Himmel und Erde…“ spricht sie von 17.30 bis 19 Uhr über die Schöpfungserzählung im Kontext von Schöpfungsmythen aus aller Welt. \nEs habe den Anschein\, als ob die biblische Geschichte von der Entstehung der Welt die einzige (und allein mögliche) wäre\, so tief wie sie im westlichen\, vom Christentum\ngeprägten Kulturkreis verankert ist. Dabei sei es so\, dass sich jede Kultur zu jeder Zeit ihre eigene Geschichte über ihre Herkunft erzählt hat. \nDie Teilnehmenden lernen ein paar solcher Schöpfungsmythen kennen\, im Besonderen aber den babylonischen Schöpfungsmythos. Im Vergleich mit dieser Erzählung\, die die jüdischen Erzähler\, die vom Anfang erzählen\, mit Sicherheit kannten\, wird deutlich\, dass sie ein radikal anderes Welt- und Gottesbild entwerfen als ihre damalige Umwelt: das eines befreienden Gottes\, der für seine Menschenkinder einen Ort zum Leben erschafft. \n
URL:https://www.herzog-magazin.de/event/schoepfungsmythen-aus-aller-welt/
LOCATION:Dietrich-Bonhoeffer-Haus\, Düsseldorfer Straße 30\, Jülich\, NRW\, 52428\, Deutschland
GEO:50.924319;6.3564769
X-APPLE-STRUCTURED-LOCATION;VALUE=URI;X-ADDRESS=Dietrich-Bonhoeffer-Haus Düsseldorfer Straße 30 Jülich NRW 52428 Deutschland;X-APPLE-RADIUS=500;X-TITLE=Düsseldorfer Straße 30:geo:6.3564769,50.924319
CATEGORIES:kulturelle Bildung,Religion,Vortrag
ATTACH;FMTTYPE=image/jpeg:https://www.herzog-magazin.de/wp-content/uploads/2022/11/Dietrich-Bonhoeffer-Haus-Netz-Foto-PuKBSuS.jpg
ORGANIZER;CN="Evangelische%20Kirchengemeinde%20J%C3%BClich":MAILTO:juelich@ekir.de
END:VEVENT
END:VCALENDAR