    BEGIN:VCALENDAR
VERSION:2.0
PRODID:-//HERZOG Kultur- &amp; Stadtmagazin - ECPv4.9.2//NONSGML v1.0//EN
CALSCALE:GREGORIAN
METHOD:PUBLISH
X-WR-CALNAME:HERZOG Kultur- &amp; Stadtmagazin
X-ORIGINAL-URL:https://www.herzog-magazin.de
X-WR-CALDESC:Veranstaltungen im HERZOG Kultur- &amp; Stadtmagazin
BEGIN:VEVENT
DTSTART;TZID=Europe/Berlin:20220612T140000
DTEND;TZID=Europe/Berlin:20220612T170000
DTSTAMP:20260425T184405
CREATED:20220608T134657Z
LAST-MODIFIED:20220608T134657Z
UID:81664-1655042400-1655053200@www.herzog-magazin.de
SUMMARY:Schüttelfest im KuBa
DESCRIPTION:Nach der erfolgreichen Premiere vor drei Jahren findet am Samstag\, 13. August\, endlich die zweite Auflage vom sogenannten „Schüttelfest“ statt. Moderator Thomas Beys freut sich schon: „Es war eine der schönsten Sommernächte\, die Jülich im letzten Jahr erlebt hat“\, spielt Beys nicht nur auf das Wetterglück an.  \nDie besondere Open-Air Atmosphäre auf dem Außengelände vom Kulturbahnhof „mit der längsten Theke Jülichs“ dürfte somit erneut zahlreiche Besucher anlocken. Für Unterhaltung auf der Bühne sorgen in diesem Jahr unter anderem die Bands Kempes Feinest\, Colör\, Stadtrand und Planschemalöör. Zudem verspricht Solo-Sänger Ben Randerath eine Zeitreise in die 90er Jahre.  \nBeginn am 13. August ist 17 Uhr. Einlass wird ab 16 Uhr gewährt. \nTickets bei Thalia oder onlineDie Eintrittskarten zum Schüttelfest sind im Vorverkauf für 18 Euro pro Ticket zuzüglich etwa 2 Euro Vorverkaufsgebühr im KuBa-Kiosk erhältlich oder online auf www.kuba-juelich.de.  \nZudem wird es am Sonntag\, 12. Juni 2022 einen Sonderverkauf auf dem Jülicher Stadtfest geben. Nur an diesem Tag (zwischen 14 und 17 Uhr) werden die Tickets ein letztes Mal ohne jegliche Vorverkaufsgebühr für glatt 18 € angeboten. Dabei werden sowohl Cornel Cremer vom Kulturbahnhof als auch Moderator Thomas Beys persönlich vor Ort sein. Der Verkauf findet am Getränkewagen vom „Bar-Eventmobil“ auf dem Marktplatz statt.  \nFoto: Kempes Feinest \n
URL:https://www.herzog-magazin.de/event/schuettelfest-im-kuba/2022-06-12/
LOCATION:KuBa-Biergarten\, Bahnhofstr. 13\, Jülich\, NRW\, 52428\, Deutschland
CATEGORIES:Brauchtum,Musik,Musik & Konzerte,Show / Unterhaltung / Talk
ATTACH;FMTTYPE=image/jpeg:https://www.herzog-magazin.de/wp-content/uploads/2022/06/Kempes-Finest-Netz.jpg
ORGANIZER;CN="Kultur%20im%20Bahnhof%20e.V.":MAILTO:info@kuba-juelich.de
END:VEVENT
END:VCALENDAR