    BEGIN:VCALENDAR
VERSION:2.0
PRODID:-//HERZOG Kultur- &amp; Stadtmagazin - ECPv4.9.2//NONSGML v1.0//EN
CALSCALE:GREGORIAN
METHOD:PUBLISH
X-WR-CALNAME:HERZOG Kultur- &amp; Stadtmagazin
X-ORIGINAL-URL:https://www.herzog-magazin.de
X-WR-CALDESC:Veranstaltungen im HERZOG Kultur- &amp; Stadtmagazin
BEGIN:VEVENT
DTSTART;TZID=Europe/Berlin:20230603T193000
DTEND;TZID=Europe/Berlin:20230603T193000
DTSTAMP:20260424T114238
CREATED:20230526T180435Z
LAST-MODIFIED:20230526T180435Z
UID:107512-1685820600-1685820600@www.herzog-magazin.de
SUMMARY:Schützenfest in Broich
DESCRIPTION:Die St.-Sebastianus-Schützenbruderschaft Broich feiert ihr Schützenfest vom 3. bis 8. Juni. Es startet am Samstag\, 3. Juni\, um 19.30 Uhr mit dem Festzug zu Ehren der scheidenden Majestäten Angelika Broich\, Lukas Pickartz und Pia Schall. Um 20 Uhr lädt die Bruderschaft zur Schützenparty ein.  \nIn der Messe am Sonntag\, 4. Juni\, wird der neue König Guido Schumacher um 9.15 Uhr in Amt und Würden gehoben. Er repräsentiert mit seiner Ehefrau Andrea die Schützenbruderschaft. Die weiteren Majestäten sind Jungschützenprinz Max Schumacher sowie Schülerprinzessin Lena Nießen. Um 10.30 Uhr beginnt der Frühschoppen in der Bürgerhalle\, der große Festzug startet um 14.30 Uhr. Am Abend ziehen die Majestäten zum Königsball. Ab 20 Uhr spielt die Band Fahrerflucht in der Bürgerhalle zum Tanz auf.  \nZum Frühschoppen lädt die Bruderschaft am Montag\, 5. Juni\, ab 11 Uhr ein. Der Schützen- und Familientag rund um die Bürgerhalle findet am Fronleichnamstag\, 8. Juni\, ab 11 Uhr statt. Neben den Schießwettbewerben steht ab 17 Uhr der Königsvogelschuss auf dem Programm. Um 19 Uhr werden die neuen Majestäten präsentiert. \n
URL:https://www.herzog-magazin.de/event/schuetzenfest-in-broich/2023-06-03/
LOCATION:Broich\, NRW\, 52428\, Deutschland
GEO:50.9418933;6.3944308
CATEGORIES:Brauchtum,Essen & Trinken,Musik,Musik & Konzerte
ATTACH;FMTTYPE=image/jpeg:https://www.herzog-magazin.de/wp-content/uploads/2023/05/St-Sebastianus-Schuetzenbruderschaft-Broich.jpg
ORGANIZER;CN="St.%20Sebastianus%20Sch%C3%BCtzenbruderschaft%20Broich":MAILTO:w.schiffer@live.de
END:VEVENT
END:VCALENDAR