    BEGIN:VCALENDAR
VERSION:2.0
PRODID:-//HERZOG Kultur- &amp; Stadtmagazin - ECPv4.9.2//NONSGML v1.0//EN
CALSCALE:GREGORIAN
METHOD:PUBLISH
X-WR-CALNAME:HERZOG Kultur- &amp; Stadtmagazin
X-ORIGINAL-URL:https://www.herzog-magazin.de
X-WR-CALDESC:Veranstaltungen im HERZOG Kultur- &amp; Stadtmagazin
BEGIN:VEVENT
DTSTART;TZID=Europe/Berlin:20190629T110000
DTEND;TZID=Europe/Berlin:20190629T140000
DTSTAMP:20260424T071001
CREATED:20190611T095259Z
LAST-MODIFIED:20190611T102807Z
UID:25759-1561806000-1561816800@www.herzog-magazin.de
SUMMARY:Schulfest an der GGS Nord
DESCRIPTION:„Wir sind die Kinder einer Welt“ ist das Motto des Schulfestes der Städtischen Grundschule Nord am Samstag\, 29. Juni. Ein buntes Mitmachprogramm zum Spielen\, Basteln und Kennenlernen verschiedener Länder und Kulturen erwartet die Gäste auf dem Schulgelände an der Berliner Straße zwischen 11:00 und 14:00 Uhr. Zudem wird der Klettergarten eröffnet. Hüpfburg\, Kinderschminken\, Popcorn und Zuckerwatte runden das Angebot ab. \n
URL:https://www.herzog-magazin.de/event/schulfest-an-der-ggs-nord/
LOCATION:GGS Nord\, Berliner Strasse 8\, Jülich\, NRW\, 52428\, Deutschland
GEO:50.9285249;6.3584058
X-APPLE-STRUCTURED-LOCATION;VALUE=URI;X-ADDRESS=GGS Nord Berliner Strasse 8 Jülich NRW 52428 Deutschland;X-APPLE-RADIUS=500;X-TITLE=Berliner Strasse 8:geo:6.3584058,50.9285249
CATEGORIES:für Kinder,Schule,Sonstiges
ATTACH;FMTTYPE=image/jpeg:https://www.herzog-magazin.de/wp-content/uploads/2019/06/GGS-Nord-Berliner1-Netz.jpg
END:VEVENT
END:VCALENDAR