    BEGIN:VCALENDAR
VERSION:2.0
PRODID:-//HERZOG Kultur- &amp; Stadtmagazin - ECPv4.9.2//NONSGML v1.0//EN
CALSCALE:GREGORIAN
METHOD:PUBLISH
X-WR-CALNAME:HERZOG Kultur- &amp; Stadtmagazin
X-ORIGINAL-URL:https://www.herzog-magazin.de
X-WR-CALDESC:Veranstaltungen im HERZOG Kultur- &amp; Stadtmagazin
BEGIN:VEVENT
DTSTART;TZID=Europe/Berlin:20250628T110000
DTEND;TZID=Europe/Berlin:20250628T150000
DTSTAMP:20260421T100239
CREATED:20250519T113133Z
LAST-MODIFIED:20250620T111952Z
UID:147502-1751108400-1751122800@www.herzog-magazin.de
SUMMARY:Schulfest der Grundschule Welldorf
DESCRIPTION:Am Samstag\, 28. Juni feiern alle Kinder\, Lehrerinnen\, Betreuerinnen und Familien am Grundschulstandort Welldorf im Romleweierweg 12 in Jülich-Welldorf ein großes Schulfest rund um das Thema „Wir sind Kinder einer Welt“. \nDas Schulfest beginnt um 11.00 Uhr mit einer kurzen Begrüßung. Der OGS-Chor unter Leitung von Silke Kayser wird die musikalische Begrüßung übernehmen. Dann ist Zeit zum Kennenlernen verschiedener Länder und Kulturen\, Zeit für Spiele undBastelaktionen rund ums Thema „Wir sind Kinder einer Welt“. \nEs gibt kühle Getränke zur Erfrischung und viele Leckereien zur Stärkung\, außerdem eine Hüpfburg und vieles mehr. Ende wird spätestens um 15.00 Uhr sein. \n
URL:https://www.herzog-magazin.de/event/schulfest-der-grundschule-welldorf/
LOCATION:Grundschule in Welldorf\, Romleweierweg 12\, Jülich\, NRW\, 52428\, Deutschland
GEO:50.9514307;6.4149858
X-APPLE-STRUCTURED-LOCATION;VALUE=URI;X-ADDRESS=Grundschule in Welldorf Romleweierweg 12 Jülich NRW 52428 Deutschland;X-APPLE-RADIUS=500;X-TITLE=Romleweierweg 12:geo:6.4149858,50.9514307
CATEGORIES:Essen & Trinken,für Familien,für Kinder,Gaming & Spiele,Schule
ATTACH;FMTTYPE=image/jpeg:https://www.herzog-magazin.de/wp-content/uploads/2025/02/IMG_8965.jpg
END:VEVENT
END:VCALENDAR