    BEGIN:VCALENDAR
VERSION:2.0
PRODID:-//HERZOG Kultur- &amp; Stadtmagazin - ECPv4.9.2//NONSGML v1.0//EN
CALSCALE:GREGORIAN
METHOD:PUBLISH
X-WR-CALNAME:HERZOG Kultur- &amp; Stadtmagazin
X-ORIGINAL-URL:https://www.herzog-magazin.de
X-WR-CALDESC:Veranstaltungen im HERZOG Kultur- &amp; Stadtmagazin
BEGIN:VEVENT
DTSTART;TZID=Europe/Berlin:20220325T200000
DTEND;TZID=Europe/Berlin:20220325T200000
DTSTAMP:20260420T223055
CREATED:20211128T200210Z
LAST-MODIFIED:20220223T092033Z
UID:71859-1648238400-1648238400@www.herzog-magazin.de
SUMMARY:Schwing-Schwing-Show mit Thomas Beys
DESCRIPTION:Schwing-Schwing-Show statt „Lametta“: Nach der Zwangspause im letzten Jahr bietet der Kulturbahnhof wieder drei Sitzungen mit Thomas Beys in seiner Rolle als „Der Präsident“. Die Vorfreude wird allerdings etwas verlängert. Die für Dezember vorgesehenen Lametta-Sitzungen werden auf März verschoben und gehen dann unter dem Titel Schwing-Schwing-Show über die Bühne.  \nDann steigt die Schwing-Schwing-Show am Freitag\, 25. März\, 20 Uhr; Samstag\, 25. März\, 19 Uhr; und Sonntag\, 27. März\, 17 Uhr im Kulturbahnhof Jülich. Bereits erworbene Tickets behalten ihre Gültigkeit. Ansonsten sind Tickets ab 23 Euro bei Thomas Beys\, thomas.beys@gmail.com\, erhältlich.  \nDas Jülicher Publikum darf sich also auf Frühlingsgefühle mit der „KG Övverm Bersch“ freuen. Thomas Beys schlüpft dabei nicht nur in seine Paraderolle\, sondern ließ bereits durchblicken\, dass er auch wieder neue Ideen auf die Bühne bringen möchte. Selbstverständlich wurden auch wieder Künstler aus Köln und dem Umland verpflichtet\, die an diesem Abend das KuBa zum Lachen\, Zuhören und zum Feiern bewegen werden. \n
URL:https://www.herzog-magazin.de/event/schwing-schwing-show-mit-thomas-beys/2022-03-25/
LOCATION:Kulturbahnhof (KuBa) Jülich\, Bahnhofsstraße 13\, Jülich\, NRW\, 52428\, Deutschland
GEO:50.91828;6.36768
X-APPLE-STRUCTURED-LOCATION;VALUE=URI;X-ADDRESS=Kulturbahnhof (KuBa) Jülich Bahnhofsstraße 13 Jülich NRW 52428 Deutschland;X-APPLE-RADIUS=500;X-TITLE=Bahnhofsstraße 13:geo:6.36768,50.91828
CATEGORIES:Kabarett & Comedy,Musik,Musik & Konzerte,Show / Unterhaltung / Talk
ATTACH;FMTTYPE=image/jpeg:https://www.herzog-magazin.de/wp-content/uploads/2021/11/Lametta-2021-Thomas-Beys-Schwing.jpg
ORGANIZER;CN="Kultur%20im%20Bahnhof%20e.V.":MAILTO:info@kuba-juelich.de
END:VEVENT
END:VCALENDAR