    BEGIN:VCALENDAR
VERSION:2.0
PRODID:-//HERZOG Kultur- &amp; Stadtmagazin - ECPv4.9.2//NONSGML v1.0//EN
CALSCALE:GREGORIAN
METHOD:PUBLISH
X-WR-CALNAME:HERZOG Kultur- &amp; Stadtmagazin
X-ORIGINAL-URL:https://www.herzog-magazin.de
X-WR-CALDESC:Veranstaltungen im HERZOG Kultur- &amp; Stadtmagazin
BEGIN:VEVENT
DTSTART;TZID=Europe/Berlin:20221211T160000
DTEND;TZID=Europe/Berlin:20221211T170000
DTSTAMP:20260424T012533
CREATED:20221128T131019Z
LAST-MODIFIED:20221128T131440Z
UID:94475-1670774400-1670778000@www.herzog-magazin.de
SUMMARY:Selgersdorfer Adventskonzert
DESCRIPTION:Der Kirchenchor St. Stephanus Selgersdorf gibt ein Adventskonzert. \nZu hören ist es am Sonntag\, 11. Dezember um 16 Uhr. \n
URL:https://www.herzog-magazin.de/event/selgersdorfer-adventskonzert/
LOCATION:St. Stephanus\, Altenburger Straße\, Selgersdorf\, NRW\, 52428\, Deutschland
GEO:50.8877203;6.4074441
X-APPLE-STRUCTURED-LOCATION;VALUE=URI;X-ADDRESS=St. Stephanus Altenburger Straße Selgersdorf NRW 52428 Deutschland;X-APPLE-RADIUS=500;X-TITLE=Altenburger Straße:geo:6.4074441,50.8877203
CATEGORIES:Musik,Musik & Konzerte,Religion
ATTACH;FMTTYPE=image/jpeg:https://www.herzog-magazin.de/wp-content/uploads/2018/11/Weihnachten-in-Jülich.jpg
END:VEVENT
END:VCALENDAR