    BEGIN:VCALENDAR
VERSION:2.0
PRODID:-//HERZOG Kultur- &amp; Stadtmagazin - ECPv4.9.2//NONSGML v1.0//EN
CALSCALE:GREGORIAN
METHOD:PUBLISH
X-WR-CALNAME:HERZOG Kultur- &amp; Stadtmagazin
X-ORIGINAL-URL:https://www.herzog-magazin.de
X-WR-CALDESC:Veranstaltungen im HERZOG Kultur- &amp; Stadtmagazin
BEGIN:VEVENT
DTSTART;TZID=Europe/Berlin:20190626T190000
DTEND;TZID=Europe/Berlin:20190626T190000
DTSTAMP:20260425T031438
CREATED:20190611T064043Z
LAST-MODIFIED:20190611T064131Z
UID:25738-1561575600-1561575600@www.herzog-magazin.de
SUMMARY:Seminar: Funraising
DESCRIPTION:Viele gute Ideen. Woher kommt das Geld? Wer in einem Verein oder einer Initiative ehrenamtlich tätig ist\, kennt die Herausforderungen\, Anliegen umzusetzen. Die LEADER-Geschäftsstelle bietet mit der AG „Starkes Ehrenamt“ ein Abendseminar zum Thema Fundraising im Ludwig Gall Haus in Aldenhoven an.  \nReferentin Karin Piesch vermittelt\, wie Unterstützer für Vereinsprojekte zu gewinnen sind. Die Teilnahme ist kostenlos\, Anmeldung bitte an: ehrenamt@inde-rur.de. \n
URL:https://www.herzog-magazin.de/event/seminar-funraising/
LOCATION:Ludwig Gall Haus\, Alte Turmstraße 66\, Aldenhoven\, NRW\, 52457\, Deutschland
CATEGORIES:Informationsveranstaltung,Vortrag
ATTACH;FMTTYPE=image/jpeg:https://www.herzog-magazin.de/wp-content/uploads/2018/01/Rheinisches-Revier-an-Inde-und-Rur-logo.jpg
ORGANIZER;CN="Leader-Region%20Rheinisches%20Revier%20an%20Inde%20und%20Rur":MAILTO:leader@inde-rur.de
END:VEVENT
END:VCALENDAR