    BEGIN:VCALENDAR
VERSION:2.0
PRODID:-//HERZOG Kultur- &amp; Stadtmagazin - ECPv4.9.2//NONSGML v1.0//EN
CALSCALE:GREGORIAN
METHOD:PUBLISH
X-WR-CALNAME:HERZOG Kultur- &amp; Stadtmagazin
X-ORIGINAL-URL:https://www.herzog-magazin.de
X-WR-CALDESC:Veranstaltungen im HERZOG Kultur- &amp; Stadtmagazin
BEGIN:VEVENT
DTSTART;TZID=Europe/Berlin:20221027T170000
DTEND;TZID=Europe/Berlin:20221027T190000
DTSTAMP:20260422T170249
CREATED:20221021T095343Z
LAST-MODIFIED:20221021T095343Z
UID:91825-1666890000-1666897200@www.herzog-magazin.de
SUMMARY:Senioren ins Netz: Infoveranstaltung
DESCRIPTION:Für Internet nie zu spät: Vorstellung aller Angebote des Projekts „Senioren ins Netz“. Das Internet bietet vielfältige Informationen\, neue Kontaktmöglichkeiten und Unterstützung für die selbständige Bewältigung des Alltags. Die Mitglieder des Projekts „Senioren ins Netz“ möchten ihren Altersgenossen den Umgang mit Computer\, Smartphone und Tablet stressfrei und möglichst einfach entsprechend individueller Nutzung näherbringen.  \nIm Laufe der Jahre haben sie dafür gemeinsam passende Angebote wie „Rund um PC und Co“\, „Foto- und Videofreunde“\, den „PC-Hilfsdienst“\, den „PC-Treff“\, „Das digitale Kochbuch“ und viele mehr geschaffen. Auch gehören Informationsveranstaltungen des Angebots „Treff@ktiv 55plus“ zu übergreifenden Themen wie Sicherheit\, Gefahren und Betrug in den multimedialen Medien dazu. \nZur Vorstellung ihres Projekts und allen dazugehörigen Angeboten\, veranstalten die Senioren ins Netz am Donnerstag\, 27. Oktober\, von 17 bis 19 Uhr eine Informationsveranstaltung im Quartierszentrum Jülich-Heckfeld\, An der Lünette 7. Neben dem informativen Teil wird es auch eine Fotoausstellung mit Bildern der „Fotofreunde“ aus Wettbewerben geben. Die Besucherinnen und Besucher haben am Veranstaltungstag auch die Möglichkeit\, sich bei den jeweiligen Ansprechpartnern über die für sie interessanten Angebote persönlich zu informieren.  \nDie Teilnahme ist frei. Eine Anmeldung ist nicht erforderlich.  \nWeitere Informationen zu diesem und anderen Angeboten des Projekts „Senioren ins Netz“\, sind bei der Stadt Jülich im Fachbereich für Quartiersmanagement und Mehrgenerationen unter der Tel. 02461/ 63-211 oder per E-Mail an SHaxha@juelich.de erhältlich. \n
URL:https://www.herzog-magazin.de/event/senioren-ins-netz-infoveranstaltung/
LOCATION:Quartier Heckfeld\, Rochusheim\, An der Lünette 7\, Jülich\, 52428\, Deutschland
CATEGORIES:Informationsveranstaltung,Senioren,Technik
ATTACH;FMTTYPE=image/jpeg:https://www.herzog-magazin.de/wp-content/uploads/2022/10/Senioren-ins-Netz-Für-Internet-nie-zu-spät-NEU.jpg
ORGANIZER;CN="Stadt%20J%C3%BClich":MAILTO:info@juelich.de
END:VEVENT
END:VCALENDAR