    BEGIN:VCALENDAR
VERSION:2.0
PRODID:-//HERZOG Kultur- &amp; Stadtmagazin - ECPv4.9.2//NONSGML v1.0//EN
CALSCALE:GREGORIAN
METHOD:PUBLISH
X-WR-CALNAME:HERZOG Kultur- &amp; Stadtmagazin
X-ORIGINAL-URL:https://www.herzog-magazin.de
X-WR-CALDESC:Veranstaltungen im HERZOG Kultur- &amp; Stadtmagazin
BEGIN:VEVENT
DTSTART;TZID=Europe/Berlin:20220426T150000
DTEND;TZID=Europe/Berlin:20220426T150000
DTSTAMP:20260421T201117
CREATED:20220413T120546Z
LAST-MODIFIED:20220413T120546Z
UID:77677-1650985200-1650985200@www.herzog-magazin.de
SUMMARY:Senioren und die Stadt Jülich
DESCRIPTION:Was bietet Jülich den Senioren? Das will die Senioren Union wissen. Zur Beantwortung dieser Frage ist Dezernentin Doris Vogel am 26. April um 15 Uhr im Rathaus am Schwanenteich im Großen Sitzungssaal Gast der Senioren Union.  \nWelche Einrichtungen bietet die Stadt den Senioren? Wer sind Ansprechpartner im Rathaus? Wo gibt es Vergünstigungen für Senioren? Sicher werden auch Wünsche und kritische Fragen zur Sprache kommen. \nEine Anmeldung ist nicht erforderlich. An die Schutzmaske ist zu denken.  \nRückfragen beantwortet Wolfgang Gunia\, Tel. 02461 / 53937. \n
URL:https://www.herzog-magazin.de/event/senioren-und-die-stadt-juelich/
LOCATION:Neues Rathaus\, Große Rurstraße 17\, Jülich\, NRW\, 52428\, Deutschland
GEO:50.92136;6.36263
X-APPLE-STRUCTURED-LOCATION;VALUE=URI;X-ADDRESS=Neues Rathaus Große Rurstraße 17 Jülich NRW 52428 Deutschland;X-APPLE-RADIUS=500;X-TITLE=Große Rurstraße 17:geo:6.36263,50.92136
CATEGORIES:Informationsveranstaltung,Senioren,Vortrag
ATTACH;FMTTYPE=image/jpeg:https://www.herzog-magazin.de/wp-content/uploads/2022/04/Seniorenunion-IMG_7241.jpg
END:VEVENT
END:VCALENDAR