    BEGIN:VCALENDAR
VERSION:2.0
PRODID:-//HERZOG Kultur- &amp; Stadtmagazin - ECPv4.9.2//NONSGML v1.0//EN
CALSCALE:GREGORIAN
METHOD:PUBLISH
X-WR-CALNAME:HERZOG Kultur- &amp; Stadtmagazin
X-ORIGINAL-URL:https://www.herzog-magazin.de
X-WR-CALDESC:Veranstaltungen im HERZOG Kultur- &amp; Stadtmagazin
BEGIN:VEVENT
DTSTART;TZID=Europe/Berlin:20181103T180000
DTEND;TZID=Europe/Berlin:20181103T180000
DTSTAMP:20260425T112742
CREATED:20181016T153222Z
LAST-MODIFIED:20181030T222902Z
UID:16934-1541268000-1541268000@www.herzog-magazin.de
SUMMARY:Sessionseröffnung der KG Rursternchen 1948 e.V.
DESCRIPTION:Sessionseröffnung der KG Rursternchen 1948 e.V \nDie Rursternchen laden zur Sessionseröffnung der Session 2018/2019 mit Ordensverleihung ein. \nWann? Samstag\, 3.11.2017\, ab 19:11 Uhr \nWo? Kulturbahnhof Jülich \nNeben den Premieren der Tanzgruppen der KG sorgen Büttenreden und Stimmungsmusik für einen stimmungsvollen und lustigen Abend. Der Eintritt ist kostenfrei. Also kommen Sie vorbei und seien Sie gespannt auf das\, was die Rursternchen für die kommende Session für Sie vorbereitet haben. \n
URL:https://www.herzog-magazin.de/event/sessionseroeffnung-der-kg-rursternchen-1948-e-v/
LOCATION:Kulturbahnhof (KuBa) Jülich\, Bahnhofsstraße 13\, Jülich\, NRW\, 52428\, Deutschland
GEO:50.91828;6.36768
X-APPLE-STRUCTURED-LOCATION;VALUE=URI;X-ADDRESS=Kulturbahnhof (KuBa) Jülich Bahnhofsstraße 13 Jülich NRW 52428 Deutschland;X-APPLE-RADIUS=500;X-TITLE=Bahnhofsstraße 13:geo:6.36768,50.91828
CATEGORIES:Brauchtum,für Kinder,Party
ATTACH;FMTTYPE=image/jpeg:https://www.herzog-magazin.de/wp-content/uploads/2018/10/1D33E5A8-F37E-47C3-B049-9F8FD20585BF.jpeg
ORGANIZER;CN="KG%20Rursternchen%201948%20e.V.":MAILTO:stern@rursternchen.de
END:VEVENT
END:VCALENDAR