    BEGIN:VCALENDAR
VERSION:2.0
PRODID:-//HERZOG Kultur- &amp; Stadtmagazin - ECPv4.9.2//NONSGML v1.0//EN
CALSCALE:GREGORIAN
METHOD:PUBLISH
X-WR-CALNAME:HERZOG Kultur- &amp; Stadtmagazin
X-ORIGINAL-URL:https://www.herzog-magazin.de
X-WR-CALDESC:Veranstaltungen im HERZOG Kultur- &amp; Stadtmagazin
BEGIN:VEVENT
DTSTART;TZID=Europe/Berlin:20250303T141100
DTEND;TZID=Europe/Berlin:20250303T141100
DTSTAMP:20260421T124748
CREATED:20241216T142439Z
LAST-MODIFIED:20250203T091649Z
UID:138038-1741011060-1741011060@www.herzog-magazin.de
SUMMARY:Sessionstermine der KG Maiblömche
DESCRIPTION:Nach einer gelungenen Sessionseröffnung im vergangenen November und einer kurzen Weihnachtspause wird die KG Maiblömche Lich-Steinstraß im Januar karnevalistisch wieder voller Elan in die Session starten. Nachfolgend finden Sie alle Veranstaltungstermine der KG Maiblömche Lich-Steinstraß für die Session 2024/25: \nSamstag\, 01. Februar\n18.40 uhr\nGroße Kostümsitzung\, im Festzelt\nEintritt 35 Euro \nDonnerstag\, 06. Februar\n15 Uhr\nErste Große Damensitzung\, im Festzelt \nFreitag\, 7. Februar\n15 Uhr\nZweite Große Damensitzung\, im Festzelt \nSonntag\, 23. Februar\,\n14.30 Uhr\nKindersitzung\, im Festzelt\nEintritt frei \nDonnerstag\, 27.Februar\,\n14.11 Uhr\nWeiberfastnachtsparty\, im Festzelt\nEintritt 11 Euro \nSamstag\, 01. März\n20 Uhr\nKostümball im Festzelt\nEintritt 11 Euro \nSonntag\, 02. März\n16 Uhr\nSpätschoppen\, im Vereinlokal\nEintritt frei \nMonatg\, 03. März‘\n14.11 Uhr\nRosenmontagszug\nim Anschluss\, 16 Uhr\nZochparty\nEintritt 11 Euro \nDienstag\, 04. März\n16 Uhr\nAusklang & Fischessen\, u.a. im Vereinslokal \n
URL:https://www.herzog-magazin.de/event/sessionstermine-der-kg-maibloemche/2025-03-03/
LOCATION:NRW\, Deutschland
CATEGORIES:Brauchtum,Essen & Trinken,Musik,Party
ATTACH;FMTTYPE=image/jpeg:https://www.herzog-magazin.de/wp-content/uploads/2024/12/Gesellschaftsordens_KG_Maibloemche.jpg
ORGANIZER;CN="KG%20Maibl%C3%B6mche%20Lich-Steinstra%C3%9F%201935%20e.V.":MAILTO:info@maibloemche.de
END:VEVENT
END:VCALENDAR