    BEGIN:VCALENDAR
VERSION:2.0
PRODID:-//HERZOG Kultur- &amp; Stadtmagazin - ECPv4.9.2//NONSGML v1.0//EN
CALSCALE:GREGORIAN
METHOD:PUBLISH
X-WR-CALNAME:HERZOG Kultur- &amp; Stadtmagazin
X-ORIGINAL-URL:https://www.herzog-magazin.de
X-WR-CALDESC:Veranstaltungen im HERZOG Kultur- &amp; Stadtmagazin
BEGIN:VEVENT
DTSTART;TZID=Europe/Berlin:20260110T150000
DTEND;TZID=Europe/Berlin:20260110T150000
DTSTAMP:20260421T053741
CREATED:20241023T160218Z
LAST-MODIFIED:20250929T105311Z
UID:154858-1768057200-1768057200@www.herzog-magazin.de
SUMMARY:Sessionstermine der KG ULK Selgersdorf
DESCRIPTION:Samstag\, 8. November | 19.30 Uhr\nSessionseröffnung der KG ULK Selgersdorf 1925 e.V. in der Schützenhalle Daubenrath\, Kasterstr. 31A \nAlle weiteren Veranstaltungen im beheizten Festzelt an der Altenburger Straße in Selgersdorf: \nSonntag\, 10. Januar | 15.00 Uhr\n„Loss mer laache“ mit Thomas Beys \nFreitag\, 25. Januar | 10.30 Uhr\nFest in Rot Weiß \nFreitag\, 31. Januar | 17 Uhr\nJECK IN JÜLICH – Große Prunksitzung\nVVK-Stellen:\nBastelbedarf Pia Dolfus-Bongartz\, Tel. 02461 / 346352\, Große Rurstraße 20\, 52428 Jülich\n1. Vorsitzender Sebastian Simons\, Tel. 0163 7499244\, erster-Vorsitzender@ulk-selgersdorf.de\,\nPreis-VVK: 39 Euro \nSamstag\, 7. Februar | 14.00 Uhr\nKindersitzung mit der Stephanus-Schule Selgersdorf\nEintritt 4 Euro \nSonntag\, 8. Februar | 15.00 Uhr\n„6.Nostalgiesitzung“ – einzigartig –urwüchsig – urkölsch\nVVK-Stellen:\nBastelbedarf Pia Dolfus-Bongartz\, Tel. 02461 / 346352\, Große Rurstraße 20\, 52428 Jülich\n1. Vorsitzender Sebastian Simons\, Tel. 0163 7499244\, erster-Vorsitzender@ulk-selgersdorf.de\,\nPreis-VVK: 29 Euro \nFreitag\, 13. Februar | 19.00 Uhr\nFastelovend met Hätz – gemeinsame Veranstaltung mit der KG Strohmänner Selgersdorf u. De Heggete\nEintritt 5 Euro \nMontag\, 16. Februar | 15.30 Uhr\nRosenmontagszug mit Ausklang imZelt \nWeitere Informationen zur Session\, über die anstehenden Aktivitäten und die anderen Termine können der Facebookseite der KG unter www.facebook.com/KG-ULK-Selgersdorf sowie der Internetpräsenz www.ulk-selgersdorf.de entnommen werden. \n
URL:https://www.herzog-magazin.de/event/sessionstermine-der-kg-ulk-selgersdorf/2026-01-10/
LOCATION:Festzelt Selgersdorf\, Altenburger Straße 50\, Jülich-Selgersdorf\, NRW\, 52428\, Deutschland
GEO:50.8879894;6.4079995
X-APPLE-STRUCTURED-LOCATION;VALUE=URI;X-ADDRESS=Festzelt Selgersdorf Altenburger Straße 50 Jülich-Selgersdorf NRW 52428 Deutschland;X-APPLE-RADIUS=500;X-TITLE=Altenburger Straße 50:geo:6.4079995,50.8879894
CATEGORIES:Brauchtum,Essen & Trinken,Musik,Musik & Konzerte,Party,Tanz
ATTACH;FMTTYPE=image/jpeg:https://www.herzog-magazin.de/wp-content/uploads/2021/12/ULK_Wappen_web.jpg
ORGANIZER;CN="KG%20Ulk%20Selgersdorf%201925%20e.V.":MAILTO:geschaeftsfuehrer@ulk-selgersdorf.de
END:VEVENT
END:VCALENDAR