    BEGIN:VCALENDAR
VERSION:2.0
PRODID:-//HERZOG Kultur- &amp; Stadtmagazin - ECPv4.9.2//NONSGML v1.0//EN
CALSCALE:GREGORIAN
METHOD:PUBLISH
X-WR-CALNAME:HERZOG Kultur- &amp; Stadtmagazin
X-ORIGINAL-URL:https://www.herzog-magazin.de
X-WR-CALDESC:Veranstaltungen im HERZOG Kultur- &amp; Stadtmagazin
BEGIN:VEVENT
DTSTART;TZID=Europe/Berlin:20220901T180000
DTEND;TZID=Europe/Berlin:20220901T180000
DTSTAMP:20260424T224525
CREATED:20220824T181818Z
LAST-MODIFIED:20220824T194009Z
UID:86898-1662055200-1662055200@www.herzog-magazin.de
SUMMARY:Sitzung des Haupt- und Finanzausschusses
DESCRIPTION:Der Haupt- und Finanzausschusses der Stadt Jülich trifft sich am Donnerstag\, 1. September\, um 18 Uhr im Großen Sitzungssaal des Neuen Rathauses. In dem Ausschuss werden unter anderem die Jahresabschlüsse der Stadtwerke Jülich GmbH und der Neuland Hambach GmbH für das Geschäftsjahr 2021 vorgestellt. Zudem erörtert der Ausschuss die Richtlinien zum „Haus- und Hofprogramm im Rahmen der Bauberatung des Integrierten Handlungskonzeptes (InHK) Innenstadt Jülich sowie den geplanten Aufbau und Betrieb eines Energiemanagements für die städtischen Liegenschaften. \n
URL:https://www.herzog-magazin.de/event/sitzung-des-haupt-und-finanzausschusses-3/
LOCATION:Neues Rathaus\, Große Rurstraße 17\, Jülich\, NRW\, 52428\, Deutschland
GEO:50.92136;6.36263
X-APPLE-STRUCTURED-LOCATION;VALUE=URI;X-ADDRESS=Neues Rathaus Große Rurstraße 17 Jülich NRW 52428 Deutschland;X-APPLE-RADIUS=500;X-TITLE=Große Rurstraße 17:geo:6.36263,50.92136
CATEGORIES:Ausschuss,Politik
ATTACH;FMTTYPE=image/jpeg:https://www.herzog-magazin.de/wp-content/uploads/2022/08/Neues-Rathaus_Foto_Stadt-Gisa-Stein-1.jpg
ORGANIZER;CN="Stadt%20J%C3%BClich":MAILTO:info@juelich.de
END:VEVENT
END:VCALENDAR