    BEGIN:VCALENDAR
VERSION:2.0
PRODID:-//HERZOG Kultur- &amp; Stadtmagazin - ECPv4.9.2//NONSGML v1.0//EN
CALSCALE:GREGORIAN
METHOD:PUBLISH
X-WR-CALNAME:HERZOG Kultur- &amp; Stadtmagazin
X-ORIGINAL-URL:https://www.herzog-magazin.de
X-WR-CALDESC:Veranstaltungen im HERZOG Kultur- &amp; Stadtmagazin
BEGIN:VEVENT
DTSTART;TZID=Europe/Berlin:20221207T180000
DTEND;TZID=Europe/Berlin:20221207T180000
DTSTAMP:20260420T202321
CREATED:20221205T134036Z
LAST-MODIFIED:20221205T134036Z
UID:94894-1670436000-1670436000@www.herzog-magazin.de
SUMMARY:Sitzung des Haupt- und Finanzausschusses
DESCRIPTION:Der Haupt- und Finanzausschuss der Stadt Jülich tagt am Mittwoch\, 7. Dezember\, im Großen Sitzungssaal des Neuen Rathauses. Die Sitzung beginnt um 18 Uhr.  \nAuf der Tagesordnung stehen unter anderem die Gebühren von Straßenreinigung\, Entwässerung der Grundstücke und den Anschluss an die öffentliche Abwasseranlage\, Bestattungswesen und die Entsorgung von Abfällen. Darüber hinaus befasst sich der Ausschuss mit dem Abbau / Abriss der „Freibadbrücke“\, dem Jahresabschluss der Stadtentwicklungsgesellschaft und der überplanmäßigen Bereitstellung von Mitteln im Haushalt 2022 unter anderem für die Energiekosten der Schulen und der Straßenunterhaltung. \nZudem werden die Bebauungspläne in der Güstener Justinastraße und dem Stetternicher Straßenausbau Auf der Klause erörtert. Auch die Baumschutzsatzung und die Parkplatzerweiterung Sportplatz Koslar stehen auf der Tagesordnung.  \n
URL:https://www.herzog-magazin.de/event/sitzung-des-haupt-und-finanzausschusses-4/
LOCATION:Neues Rathaus\, Große Rurstraße 17\, Jülich\, NRW\, 52428\, Deutschland
GEO:50.92136;6.36263
X-APPLE-STRUCTURED-LOCATION;VALUE=URI;X-ADDRESS=Neues Rathaus Große Rurstraße 17 Jülich NRW 52428 Deutschland;X-APPLE-RADIUS=500;X-TITLE=Große Rurstraße 17:geo:6.36263,50.92136
CATEGORIES:Ausschuss,Politik
ATTACH;FMTTYPE=image/jpeg:https://www.herzog-magazin.de/wp-content/uploads/2022/12/Neues-Rathaus_Foto_Stadt-Gisa-Stein.jpg
ORGANIZER;CN="Stadt%20J%C3%BClich":MAILTO:info@juelich.de
END:VEVENT
END:VCALENDAR