    BEGIN:VCALENDAR
VERSION:2.0
PRODID:-//HERZOG Kultur- &amp; Stadtmagazin - ECPv4.9.2//NONSGML v1.0//EN
CALSCALE:GREGORIAN
METHOD:PUBLISH
X-WR-CALNAME:HERZOG Kultur- &amp; Stadtmagazin
X-ORIGINAL-URL:https://www.herzog-magazin.de
X-WR-CALDESC:Veranstaltungen im HERZOG Kultur- &amp; Stadtmagazin
BEGIN:VEVENT
DTSTART;TZID=Europe/Berlin:20221124T180000
DTEND;TZID=Europe/Berlin:20221124T180000
DTSTAMP:20260423T100355
CREATED:20221115T101614Z
LAST-MODIFIED:20221115T102911Z
UID:93582-1669312800-1669312800@www.herzog-magazin.de
SUMMARY:Sitzung des KDSW-Ausschusses
DESCRIPTION:Zu einer Sitzung findet sich der Ausschuss für Kultur\, Dorf- und Stadtentwicklung\, Wirtschaftsförderung am Donnerstag\, 24. November\, um 18 Uhr im Großen Sitzungssaal des Neuen Rathauses ein. Auf der Sitzung soll unter anderem der Fachbereich Kultur vorgestellt werden.  \n
URL:https://www.herzog-magazin.de/event/sitzung-des-kdsw-ausschusses/
LOCATION:Neues Rathaus\, Große Rurstraße 17\, Jülich\, NRW\, 52428\, Deutschland
GEO:50.92136;6.36263
X-APPLE-STRUCTURED-LOCATION;VALUE=URI;X-ADDRESS=Neues Rathaus Große Rurstraße 17 Jülich NRW 52428 Deutschland;X-APPLE-RADIUS=500;X-TITLE=Große Rurstraße 17:geo:6.36263,50.92136
CATEGORIES:Ausschuss,kulturelle Bildung,Politik,Wirtschaft
ATTACH;FMTTYPE=image/jpeg:https://www.herzog-magazin.de/wp-content/uploads/2022/11/Neues-Rathaus_Foto_Stadt-Gisa-Stein-1.jpg
ORGANIZER;CN="Stadt%20J%C3%BClich":MAILTO:info@juelich.de
END:VEVENT
END:VCALENDAR